BEGIN:VCALENDAR
VERSION:2.0
PRODID:-//OPQIC - ECPv6.15.20//NONSGML v1.0//EN
CALSCALE:GREGORIAN
METHOD:PUBLISH
X-WR-CALNAME:OPQIC
X-ORIGINAL-URL:https://opqic.org
X-WR-CALDESC:Events for OPQIC
REFRESH-INTERVAL;VALUE=DURATION:PT1H
X-Robots-Tag:noindex
X-PUBLISHED-TTL:PT1H
BEGIN:VTIMEZONE
TZID:America/Chicago
BEGIN:DAYLIGHT
TZOFFSETFROM:-0600
TZOFFSETTO:-0500
TZNAME:CDT
DTSTART:20150308T080000
END:DAYLIGHT
BEGIN:STANDARD
TZOFFSETFROM:-0500
TZOFFSETTO:-0600
TZNAME:CST
DTSTART:20151101T070000
END:STANDARD
BEGIN:DAYLIGHT
TZOFFSETFROM:-0600
TZOFFSETTO:-0500
TZNAME:CDT
DTSTART:20160313T080000
END:DAYLIGHT
BEGIN:STANDARD
TZOFFSETFROM:-0500
TZOFFSETTO:-0600
TZNAME:CST
DTSTART:20161106T070000
END:STANDARD
BEGIN:DAYLIGHT
TZOFFSETFROM:-0600
TZOFFSETTO:-0500
TZNAME:CDT
DTSTART:20170312T080000
END:DAYLIGHT
BEGIN:STANDARD
TZOFFSETFROM:-0500
TZOFFSETTO:-0600
TZNAME:CST
DTSTART:20171105T070000
END:STANDARD
BEGIN:DAYLIGHT
TZOFFSETFROM:-0600
TZOFFSETTO:-0500
TZNAME:CDT
DTSTART:20180311T080000
END:DAYLIGHT
BEGIN:STANDARD
TZOFFSETFROM:-0500
TZOFFSETTO:-0600
TZNAME:CST
DTSTART:20181104T070000
END:STANDARD
BEGIN:DAYLIGHT
TZOFFSETFROM:-0600
TZOFFSETTO:-0500
TZNAME:CDT
DTSTART:20190310T080000
END:DAYLIGHT
BEGIN:STANDARD
TZOFFSETFROM:-0500
TZOFFSETTO:-0600
TZNAME:CST
DTSTART:20191103T070000
END:STANDARD
END:VTIMEZONE
BEGIN:VEVENT
DTSTART;TZID=America/Chicago:20181218T140000
DTEND;TZID=America/Chicago:20181218T150000
DTSTAMP:20260424T105848
CREATED:20181205T162857Z
LAST-MODIFIED:20181205T162857Z
UID:8633-1545141600-1545145200@opqic.org
SUMMARY:CMQCC Webinar: Unexpected Newborn Complications: Understanding the New Measure
DESCRIPTION:Click here to view the recording of the webinar. \nYou are invited to join CMQCC’s Medical Director Elliott Main as we: \n\nReview the origins and purpose of the new Joint Commission measure\, Unexpected Newborn Complications\nExplore how it can be used to drive quality improvement in both maternal and neonatal care\nDescribe the safeguards for both over and under-coding which are important for all measures that use administrative data sets\nPresent how Unexpected Newborn Complications can be used as a “balancing” or safety measure for obstetric quality improvement projects
URL:https://opqic.org/event/cmqcc-webinar-unexpected-newborn-complications-understanding-the-new-measure/
CATEGORIES:Webinar
END:VEVENT
BEGIN:VEVENT
DTSTART;TZID=America/Chicago:20181107T100000
DTEND;TZID=America/Chicago:20181107T110000
DTSTAMP:20260424T105848
CREATED:20181024T195855Z
LAST-MODIFIED:20181024T195855Z
UID:8442-1541584800-1541588400@opqic.org
SUMMARY:CMQCC: Racial Disparities and Maternal Mortality in California: Spotlight on Cardiovascular Disease Webinar
DESCRIPTION:This webinar will highlight the racial disparities in California maternal mortality overall and – using cardiovascular disease (CVD) as a case study – will review quality improvement data and opportunities for implementing the CVD screening algorithm to better identify and provide timely treatment for all women\, especially those with higher rates of CVD during pregnancy and postpartum such as African-American women. \n\nHost: Christine Morton\, PhD\, Program Manager\, CMQCC\nIntroductory Remarks: Connie Mitchell\, MD\, MPH\, Deputy Director\, Center for Family Health at California Department of Public Health\nModerator: Elliott Main\, MD\, Medical Director\, CMQCC
URL:https://opqic.org/event/cmqcc-racial-disparities-and-maternal-mortality-in-california-spotlight-on-cardiovascular-disease-webinar/
CATEGORIES:Training,Webinar
END:VEVENT
BEGIN:VEVENT
DTSTART;TZID=America/Chicago:20181004T120000
DTEND;TZID=America/Chicago:20181004T130000
DTSTAMP:20260424T105848
CREATED:20180920T203448Z
LAST-MODIFIED:20180920T203448Z
UID:8327-1538654400-1538658000@opqic.org
SUMMARY:Webinar: Neonatal Skin Care - State of the Science and Ongoing Challenges
DESCRIPTION:The skin is one of the most important organs at birth\, and skin care provided during the newborn period may have short and long-term effects which can extend into infancy and beyond. During the first days and months of life\, proper neonatal skin care is essential for newborns.  \n   \nLearn the most current research and practice recommendations to improve and maintain neonatal skin integrity for both healthy and high-risk neonates. This free\, live webinar will also focus on the prevention and treatment of diaper dermatitis\, the treatment of neonatal skin breakdown for healthy and high-risk newborns\, as well as the use of emollients for prevention of atopic dermatitis.  \n   \nSpeaker Debra Brandon\, PhD\, RN\, CNS\, FAAN\, is an associate professor at Duke University.
URL:https://opqic.org/event/webinar-neonatal-skin-care-state-of-the-science-and-ongoing-challenges/
CATEGORIES:AWHONN,Webinar
END:VEVENT
BEGIN:VEVENT
DTSTART;TZID=America/Chicago:20180823T140000
DTEND;TZID=America/Chicago:20180823T150000
DTSTAMP:20260424T105848
CREATED:20180622T182149Z
LAST-MODIFIED:20180622T182149Z
UID:7997-1535032800-1535036400@opqic.org
SUMMARY:Post-Birth Warning Signs Admin Webinar
DESCRIPTION:Click here to add to your calendar.
URL:https://opqic.org/event/post-birth-warning-signs-admin-webinar-pm/
CATEGORIES:AWHONN,OPQIC,Training,Webinar
END:VEVENT
BEGIN:VEVENT
DTSTART;TZID=America/Chicago:20180821T110000
DTEND;TZID=America/Chicago:20180821T120000
DTSTAMP:20260424T105848
CREATED:20180622T182015Z
LAST-MODIFIED:20180622T182015Z
UID:7992-1534849200-1534852800@opqic.org
SUMMARY:Post-Birth Warning Signs Admin Webinar
DESCRIPTION:Click here to add to your calendar.
URL:https://opqic.org/event/post-birth-warning-signs-admin-webinar/
CATEGORIES:AWHONN,OPQIC,Training,Webinar
END:VEVENT
BEGIN:VEVENT
DTSTART;TZID=America/Chicago:20180619T100000
DTEND;TZID=America/Chicago:20180619T104500
DTSTAMP:20260424T105848
CREATED:20180608T223446Z
LAST-MODIFIED:20180608T223446Z
UID:7704-1529402400-1529405100@opqic.org
SUMMARY:OPQIC: AWHONN Post-Birth Warning Signs Initiative - AM webinar
DESCRIPTION:Please join OPQIC as we present information on AWHONN’s Post-Birth Warning Signs Online Training Initiative. \n \nClick here to add to your calendar.
URL:https://opqic.org/event/opqic-awhonn-post-birth-warning-signs-initiative/
CATEGORIES:OPQIC,Training,Webinar
END:VEVENT
BEGIN:VEVENT
DTSTART;TZID=America/Chicago:20180615T140000
DTEND;TZID=America/Chicago:20180615T144500
DTSTAMP:20260424T105848
CREATED:20180612T190131Z
LAST-MODIFIED:20180612T190131Z
UID:7707-1529071200-1529073900@opqic.org
SUMMARY:OPQIC: AWHONN Post-Birth Warning Signs Initiative - PM webinar
DESCRIPTION:Please join OPQIC as we present information on AWHONN’s Post-Birth Warning Signs Online Training Initiative. \n \nClick here to add to your calendar.
URL:https://opqic.org/event/opqic-awhonn-post-birth-warning-signs-initiative-pm-webinar/
CATEGORIES:OPQIC,Training,Webinar
END:VEVENT
BEGIN:VEVENT
DTSTART;TZID=America/Chicago:20180518T120000
DTEND;TZID=America/Chicago:20180518T130000
DTSTAMP:20260424T105848
CREATED:20180503T200948Z
LAST-MODIFIED:20180503T200948Z
UID:7555-1526644800-1526648400@opqic.org
SUMMARY:Safety Action Series: Improving Care and Support for Patients Experiencing Birth Trauma
DESCRIPTION:Please join the Council on Patient Safety in Women’s Health Care as they present the Safety Action Series: Improving Care and Support for Patients Experiencing Birth Trauma on Tuesday\, May 18\, 2018 from 12 PM- 1 PM CST \nSpeakers: \n\nHeidi Kloss\, MA\, LMHC\, Perinatal Mental Health Specialist\, Perinatal Support Washington\nDawn Thompson\, Founder and President\, Improving Birth\n\nClick here to register. \nClick here to view flyer.
URL:https://opqic.org/event/safety-action-series-improving-care-and-support-for-patients-experiencing-birth-trauma/
CATEGORIES:Training,Webinar
END:VEVENT
BEGIN:VEVENT
DTSTART;TZID=America/Chicago:20180517T110000
DTEND;TZID=America/Chicago:20180517T120000
DTSTAMP:20260424T105848
CREATED:20180509T150921Z
LAST-MODIFIED:20180509T150921Z
UID:7582-1526554800-1526558400@opqic.org
SUMMARY:NPIC Webinar: Common Challenges Managing Bed and Staff Availability On Labor and Delivery Units in the United States: A Qualitative Analysis
DESCRIPTION:NPIC is offering a free webinar on Thursday\, May 17\, from 11 AM to 12 PM CST featuring Neel Shah\, MD\, MPP. \nDr. Shah will report on the results of a secondary analysis of interviews with nurse and physician managers at 48 labor and delivery units across the US. The units are all NPIC members that participated in Dr. Shah’s study on unit management practices that impact maternal outcomes. In addition to identifying common challenges in managing bed and staff availability he will share criterion for effective management performance. \nNo Education credit available for this event.  \nClick here to register.
URL:https://opqic.org/event/npic-webinar-common-challenges-managing-bed-and-staff-availability-on-labor-and-delivery-units-in-the-united-states-a-qualitative-analysis/
CATEGORIES:Webinar
END:VEVENT
BEGIN:VEVENT
DTSTART;TZID=America/Chicago:20180508T110000
DTEND;TZID=America/Chicago:20180508T120000
DTSTAMP:20260424T105848
CREATED:20180502T214117Z
LAST-MODIFIED:20180502T214117Z
UID:7547-1525777200-1525780800@opqic.org
SUMMARY:Safety Action Series Webinar: Challenges in Management of Severe Hypertension: Beyond the Hospital
DESCRIPTION:Please join the Council on Patient Safety in Women’s Health Care as they present the Safety Action Series: Challenges in Management of Severe Hypertension: Beyond the Hospital on Tuesday\, May 8\, 2018 from 11 AM – 12 PM CST \nSpeakers:\nBrandi Bigelow\nCleveland\, OH Promise Walk for Preeclampsia Coordinator\nJudette Louis\, MD\, MPH\nAssociate Professor\, Department of Obstetrics & Gynecology\nDivision Chief\, Maternal Fetal Medicine University of South Florida College of Medicine\nCourtney Townsel\, MD\nMaternal Fetal Medicine\, University of Connecticut\n\nClick here to register.\n\nClick here to view the flyer.
URL:https://opqic.org/event/safety-action-series-webinar-challenges-in-management-of-severe-hypertension-beyond-the-hospital/
CATEGORIES:Webinar
END:VEVENT
BEGIN:VEVENT
DTSTART;TZID=America/Chicago:20180425T130000
DTEND;TZID=America/Chicago:20180425T140000
DTSTAMP:20260424T105848
CREATED:20180417T164355Z
LAST-MODIFIED:20180417T164355Z
UID:7483-1524661200-1524664800@opqic.org
SUMMARY:NICHQ Webinar: Improving Infant Safe Sleep Conversations
DESCRIPTION:The webinar will be led by Stacy Scott\, PhD\, MPA\, founder of the Global Infant Safe Sleep Center. In a series of role playing exercises\, she will demonstrate tactics to engage families from different backgrounds in meaningful conversations about safe sleep. Attendees will walk away with language and strategies that can be put into practice immediately following the webinar. \nThese actionable skills will benefit all health professionals\, human service providers\, community health workers\, home visitors\, peer supporters and family members working to improve infant health outcomes.
URL:https://opqic.org/event/nichq-webinar-improving-infant-safe-sleep-conversations/
CATEGORIES:Webinar
END:VEVENT
BEGIN:VEVENT
DTSTART;TZID=America/Chicago:20180108T130000
DTEND;TZID=America/Chicago:20180108T143000
DTSTAMP:20260424T105848
CREATED:20171213T175503Z
LAST-MODIFIED:20171213T175503Z
UID:7059-1515416400-1515421800@opqic.org
SUMMARY:March of Dimes: Saving Lives - Preventing Preeclampsia With Low-Dose Aspirin Webinar
DESCRIPTION:A March of Dimes Professional Education Webinar on “Saving lives: preventing preeclampsia with low-dose aspirin” will be held on January 8\, 1-1:30 CST. Although the webinar is not only intended for clinicians\, continuing education credits will be available through the Clinical Directors Network for CME/CNE and through the Council for Pharmacy Education for pharmaceutical credits. Speakers will be Jodi Abbott\, MD\, Assistant Dean of Patient Safety & Quality Improvement Education\, Associate Professor Boston University School of Medicine\, Department of Ob/Gyn Boston Medical Center\, and Charlie Lockwood\, MD\, MHCM\, Dean of the Morsani College of Medicine and Senior Vice President\, University of South Florida Health\, Professor\, Obstetrics and Gynecology.
URL:https://opqic.org/event/march-of-dimes-saving-lives-preventing-preeclampsia-with-low-dose-aspirin-webinar/
CATEGORIES:Webinar
END:VEVENT
BEGIN:VEVENT
DTSTART;TZID=America/Chicago:20171219T100000
DTEND;TZID=America/Chicago:20171219T113000
DTSTAMP:20260424T105848
CREATED:20170203T163524Z
LAST-MODIFIED:20170203T163524Z
UID:5849-1513677600-1513683000@opqic.org
SUMMARY:Every Baby Counts Quality Improvement Program Webinar
DESCRIPTION:Click here to join webinar. \nJoin by phone (888) 390-3983
URL:https://opqic.org/event/every-baby-counts-quality-improvement-program-webinar-10/
CATEGORIES:Webinar
END:VEVENT
BEGIN:VEVENT
DTSTART;TZID=America/Chicago:20171213T120000
DTEND;TZID=America/Chicago:20171213T130000
DTSTAMP:20260424T105848
CREATED:20171205T164403Z
LAST-MODIFIED:20171205T164403Z
UID:7014-1513166400-1513170000@opqic.org
SUMMARY:Becoming Baby Friendly Oklahoma Webinar featuring Barbara O'Brien
DESCRIPTION:This month’s BBFOK will be featuring Barbara O’Brien\, MS\, RN. \nPlease see the webinar details below: \nPlease join my meeting from your computer\, tablet or smartphone. \nhttps://global.gotomeeting.com/join/599519221  \nYou can also dial in using your phone. \nUnited States: +1 (312) 757-3121 \nAccess Code: 599-519-221  \nJoining from a video-conferencing room or system? \nDial: 67.217.95.2##599519221\nCisco devices: 599519221@67.217.95.2
URL:https://opqic.org/event/becoming-baby-friendly-oklahoma-webinar-featuring-barbara-obrien/
CATEGORIES:Webinar
END:VEVENT
BEGIN:VEVENT
DTSTART;TZID=America/Chicago:20170823T140000
DTEND;TZID=America/Chicago:20170823T153000
DTSTAMP:20260424T105848
CREATED:20170731T140314Z
LAST-MODIFIED:20170731T140314Z
UID:6551-1503496800-1503502200@opqic.org
SUMMARY:OPQIC Antibiotic Stewardship Meeting
DESCRIPTION:OPQIC will be hosting a meeting on Antibiotic Stewardship. Representatives from NICUs across Oklahoma have an opportunity to collaborate on antibiotic stewardship programs in their hospitals. \nFor information\, please email denise-cole@ouhsc.edu
URL:https://opqic.org/event/webex-opqic-antibiotic-stewardship-meeting/
CATEGORIES:OPQIC,Webinar
END:VEVENT
BEGIN:VEVENT
DTSTART;TZID=America/Chicago:20170823T113000
DTEND;TZID=America/Chicago:20170823T120000
DTSTAMP:20260424T105848
CREATED:20170807T163450Z
LAST-MODIFIED:20170807T163450Z
UID:6635-1503487800-1503489600@opqic.org
SUMMARY:Period of Purple Crying: Managing Fidelity & Sustainability Webinar
DESCRIPTION:This webinar will outline strategies that have helped many effectively manage fidelity\, sustainability and training. We will share challenges\, successes and resources to help ensure your delivery efforts are streamlined and efficient. \n \n 
URL:https://opqic.org/event/period-of-purple-crying-managing-fidelity-sustainability-webinar/
CATEGORIES:Webinar
END:VEVENT
BEGIN:VEVENT
DTSTART;TZID=America/Chicago:20170530T110000
DTEND;TZID=America/Chicago:20170530T120000
DTSTAMP:20260424T105848
CREATED:20170511T164846Z
LAST-MODIFIED:20170511T164846Z
UID:6234-1496142000-1496145600@opqic.org
SUMMARY:Safety Action Series:  Maternal Early Warning Signs:  Preeclampsia
DESCRIPTION:Presenters: \nEleni Tsigas \nExecutive Director\, Preeclampsia Foundation \nJessica Deeb MS\, RN\, WHNP-BC\, IBCLC\, LCCE \nPerinatal Quality\, Risk\, and Safety Program Coordinator\, NYU Langone Medical Center; Lamaze Certified Childbirth Educator \nClick here to register.
URL:https://opqic.org/event/safety-action-series-maternal-early-warning-signs-preeclampsia/
CATEGORIES:Webinar
END:VEVENT
BEGIN:VEVENT
DTSTART;TZID=America/Chicago:20170519T123000
DTEND;TZID=America/Chicago:20170519T130000
DTSTAMP:20260424T105848
CREATED:20170511T164642Z
LAST-MODIFIED:20170511T164642Z
UID:6232-1495197000-1495198800@opqic.org
SUMMARY:Safety Action Series: Effectively Communicating with Moms About Screening & Treatment for Perinatal Depression & Anxiety
DESCRIPTION:Presenters: \nLenore Jarvis\, MD \nEmergency Medicine Specialist\, Children’s National Health System \nPooja Lakshmin\, MD \nPsychiatrist\, George Washington University \nClick here to register.
URL:https://opqic.org/event/safety-action-series-effectively-communicating-with-moms-about-screening-treatment-for-perinatal-depression-anxiety/
CATEGORIES:Webinar
END:VEVENT
BEGIN:VEVENT
DTSTART;TZID=America/Chicago:20170518T130000
DTEND;TZID=America/Chicago:20170518T140000
DTSTAMP:20260424T105848
CREATED:20170420T122331Z
LAST-MODIFIED:20170420T122331Z
UID:6177-1495112400-1495116000@opqic.org
SUMMARY:CDC Webinar Series: On Blood Disorders
DESCRIPTION:Click here to view flyer and to register.
URL:https://opqic.org/event/cdc-webinar-series-on-blood-disorders/
CATEGORIES:Webinar
END:VEVENT
BEGIN:VEVENT
DTSTART;TZID=America/Chicago:20170512T110000
DTEND;TZID=America/Chicago:20170512T120000
DTSTAMP:20260424T105848
CREATED:20170511T164219Z
LAST-MODIFIED:20170511T164219Z
UID:6229-1494586800-1494590400@opqic.org
SUMMARY:Safety Action Series:  Collaborative Care Models for Perinatal Mental Health
DESCRIPTION:Presenters: \nNancy Grote\, PhD\, MSW \nPrincipal Investigator\, MOMCare Program and Research Associate Professor\, University of Washington School of Social Work \nEmily Miller\, MD\, MPH \nAssistant Professor\, Obstetrics and Gynecology-Maternal Fetal Medicine and Psychiatry and Behavioral Sciences\, Northwestern University \n\n\nClick here to register.
URL:https://opqic.org/event/safety-action-series-collaborative-care-models-for-perinatal-mental-health/
CATEGORIES:Webinar
END:VEVENT
BEGIN:VEVENT
DTSTART;TZID=America/Chicago:20170418T140000
DTEND;TZID=America/Chicago:20170418T150000
DTSTAMP:20260424T105848
CREATED:20170315T181819Z
LAST-MODIFIED:20170315T181819Z
UID:6054-1492524000-1492527600@opqic.org
SUMMARY:Safety Action Series: Postpartum Care Basics: From Birth to the Comprehensive Postpartum Visit Bundle Presentation
DESCRIPTION:The Council on Patient Safety in Women’s Health Care is pleased to sponsor and convene the Safety Action Series. The Series is comprised of free teleconferences on various topics relevant to promoting a culture of safety in women’s health care. The series is designed to be interactive and collaborative\, with ample time allotted during each session for audience participation. \nClick here to view the event flyer and to register. 
URL:https://opqic.org/event/safety-action-series-postpartum-care-basics-from-birth-to-the-comprehensive-postpartum-visit-bundle-presentation/
CATEGORIES:Webinar
END:VEVENT
BEGIN:VEVENT
DTSTART;TZID=America/Chicago:20170403T123000
DTEND;TZID=America/Chicago:20170403T133000
DTSTAMP:20260424T105848
CREATED:20170315T180857Z
LAST-MODIFIED:20170315T180857Z
UID:6052-1491222600-1491226200@opqic.org
SUMMARY:Safety Action Series: Maternal Mortality: What Do the Numbers Mean?
DESCRIPTION:The Council on Patient Safety in Women’s Health Care is pleased to sponsor and convene the Safety Action Series. The Series is comprised of free teleconferences on various topics relevant to promoting a culture of safety in women’s health care. The series is designed to be interactive and collaborative\, with ample time allotted during each session for audience participation. \nClick here to access the event flyer and to register.
URL:https://opqic.org/event/safety-action-series-maternal-mortality-what-do-the-numbers-mean/
CATEGORIES:Webinar
END:VEVENT
BEGIN:VEVENT
DTSTART;TZID=America/Chicago:20170228T100000
DTEND;TZID=America/Chicago:20170228T113000
DTSTAMP:20260424T105848
CREATED:20170203T161420Z
LAST-MODIFIED:20170203T161420Z
UID:5828-1488276000-1488281400@opqic.org
SUMMARY:Every Baby Counts Quality Improvement Program Webinar
DESCRIPTION:Click here to join webinar. \nJoin by phone (888) 390-3983
URL:https://opqic.org/event/every-baby-counts-quality-improvement-program-webinar/
CATEGORIES:Webinar
END:VEVENT
BEGIN:VEVENT
DTSTART;TZID=America/Chicago:20160803T143000
DTEND;TZID=America/Chicago:20160803T153000
DTSTAMP:20260424T105848
CREATED:20160729T164630Z
LAST-MODIFIED:20160729T164630Z
UID:3922-1470234600-1470238200@opqic.org
SUMMARY:Documentation & Coding Guidance for Labor Webinar
DESCRIPTION:The California Maternal Quality Care Collaborative is hosting the webinar\, Documentation and Coding Guidance\nfor Labor\, Induction\, & Transfusions\, presented by Elliot Main\, MD. \nTarget audience: Providers\, Coders\, Nursing Leaders \nDr. Main will provide ICD-10 coding guidance and ACOG reVITALize definitions \nClick here to register
URL:https://opqic.org/event/documentation-coding-guidance-webinar/
CATEGORIES:Webinar
END:VEVENT
BEGIN:VEVENT
DTSTART;TZID=America/Chicago:20160408T120000
DTEND;TZID=America/Chicago:20160408T130000
DTSTAMP:20260424T105848
CREATED:20160328T161653Z
LAST-MODIFIED:20160328T161653Z
UID:3490-1460116800-1460120400@opqic.org
SUMMARY:Webinar: Zika virus disease - What you need to know
DESCRIPTION:The CDC along with Johns Hopkins will be hosting a webinar: Zika virus disease- What you need to know \nPresented as part of Premier’s AdvisorLive® series and co-sponsored by the Society for Healthcare Epidemiology of America (SHEA) and the Association for Professionals in Infection Control and Epidemiology (APIC) \nDiscussion in the presentation: \n\nUpdates and late breaking information on Zika virus outbreak\,\nLab diagnosis\,\nTravel\,\nIssues for reproductive age and pregnant women\, including evaluation\, management\, counseling\, and congenital findings\, and\nImplications and risks for healthcare personnel.\n\nClick here to register.
URL:https://opqic.org/event/webinar-zika-virus-disease-what-you-need-to-know/
CATEGORIES:Webinar
END:VEVENT
END:VCALENDAR