BEGIN:VCALENDAR
VERSION:2.0
PRODID:-//OPQIC - ECPv6.15.20//NONSGML v1.0//EN
CALSCALE:GREGORIAN
METHOD:PUBLISH
X-WR-CALNAME:OPQIC
X-ORIGINAL-URL:https://opqic.org
X-WR-CALDESC:Events for OPQIC
REFRESH-INTERVAL;VALUE=DURATION:PT1H
X-Robots-Tag:noindex
X-PUBLISHED-TTL:PT1H
BEGIN:VTIMEZONE
TZID:America/Chicago
BEGIN:DAYLIGHT
TZOFFSETFROM:-0600
TZOFFSETTO:-0500
TZNAME:CDT
DTSTART:20240310T080000
END:DAYLIGHT
BEGIN:STANDARD
TZOFFSETFROM:-0500
TZOFFSETTO:-0600
TZNAME:CST
DTSTART:20241103T070000
END:STANDARD
BEGIN:DAYLIGHT
TZOFFSETFROM:-0600
TZOFFSETTO:-0500
TZNAME:CDT
DTSTART:20250309T080000
END:DAYLIGHT
BEGIN:STANDARD
TZOFFSETFROM:-0500
TZOFFSETTO:-0600
TZNAME:CST
DTSTART:20251102T070000
END:STANDARD
BEGIN:DAYLIGHT
TZOFFSETFROM:-0600
TZOFFSETTO:-0500
TZNAME:CDT
DTSTART:20260308T080000
END:DAYLIGHT
BEGIN:STANDARD
TZOFFSETFROM:-0500
TZOFFSETTO:-0600
TZNAME:CST
DTSTART:20261101T070000
END:STANDARD
END:VTIMEZONE
BEGIN:VEVENT
DTSTART;TZID=America/Chicago:20250529T140000
DTEND;TZID=America/Chicago:20250529T153000
DTSTAMP:20260424T141121
CREATED:20250523T164615Z
LAST-MODIFIED:20250523T164615Z
UID:19690-1748527200-1748532600@opqic.org
SUMMARY:Congressional Briefing: MMH State Report Cards
DESCRIPTION:Because Congress is slated to review the sweeping budget proposal on the original date of May 15\, we have moved the briefing to May 29 and hope that you can join us live. The briefing recording will be shared with all who register as well. \nDuring this briefing\, the Policy Center for Maternal Mental Health will unveil its latest maternal mental health (MMH) state report cards\, including a new national grade and state grades highlighting the top states\, bottom states\, and those states that have made the most significant improvement. (See the 2024 report here). \nThe Policy Center will also present its 2025\, county-level “Risk and Resource” report highlighting the counties with the highest risk for MMH disorders and lowest resources which the Policy Center refers to as “dark zones.”\n(See the 2023 report here). \nThe Policy Center CEO will also share the Federal and state strategies\, including the strategies from the Federal Maternal Mental Health Task Force that have the potential to alleviate suffering and support doctors and patients alike.
URL:https://opqic.org/event/congressional-briefing-mmh-state-report-cards/
CATEGORIES:Webinar
END:VEVENT
END:VCALENDAR