BEGIN:VCALENDAR
VERSION:2.0
PRODID:-//OPQIC - ECPv6.15.20//NONSGML v1.0//EN
CALSCALE:GREGORIAN
METHOD:PUBLISH
X-WR-CALNAME:OPQIC
X-ORIGINAL-URL:https://opqic.org
X-WR-CALDESC:Events for OPQIC
REFRESH-INTERVAL;VALUE=DURATION:PT1H
X-Robots-Tag:noindex
X-PUBLISHED-TTL:PT1H
BEGIN:VTIMEZONE
TZID:America/Chicago
BEGIN:DAYLIGHT
TZOFFSETFROM:-0600
TZOFFSETTO:-0500
TZNAME:CDT
DTSTART:20180311T080000
END:DAYLIGHT
BEGIN:STANDARD
TZOFFSETFROM:-0500
TZOFFSETTO:-0600
TZNAME:CST
DTSTART:20181104T070000
END:STANDARD
BEGIN:DAYLIGHT
TZOFFSETFROM:-0600
TZOFFSETTO:-0500
TZNAME:CDT
DTSTART:20190310T080000
END:DAYLIGHT
BEGIN:STANDARD
TZOFFSETFROM:-0500
TZOFFSETTO:-0600
TZNAME:CST
DTSTART:20191103T070000
END:STANDARD
BEGIN:DAYLIGHT
TZOFFSETFROM:-0600
TZOFFSETTO:-0500
TZNAME:CDT
DTSTART:20200308T080000
END:DAYLIGHT
BEGIN:STANDARD
TZOFFSETFROM:-0500
TZOFFSETTO:-0600
TZNAME:CST
DTSTART:20201101T070000
END:STANDARD
END:VTIMEZONE
BEGIN:VEVENT
DTSTART;TZID=America/Chicago:20190723T073000
DTEND;TZID=America/Chicago:20190723T163000
DTSTAMP:20260424T075945
CREATED:20190516T160433Z
LAST-MODIFIED:20190516T160433Z
UID:9262-1563867000-1563899400@opqic.org
SUMMARY:OPNF Bootcamp: Newborn Safety & Perinatal Loss
DESCRIPTION:          \n*Evaluations will not be available until the date of the training.\n  
URL:https://opqic.org/event/opnf-bootcamp-newborn-safety-perinatal-loss-4/
LOCATION:Norman Regional Education Center\, 901 N. Porter\, Norman\, OK\, United States
CATEGORIES:Training
END:VEVENT
BEGIN:VEVENT
DTSTART;TZID=America/Chicago:20190722T073000
DTEND;TZID=America/Chicago:20190722T163000
DTSTAMP:20260424T075945
CREATED:20190516T160344Z
LAST-MODIFIED:20190516T160344Z
UID:9260-1563780600-1563813000@opqic.org
SUMMARY:OPNF Bootcamp: Newborn Transition and Care
DESCRIPTION:          \n*Evaluations will not be available until the date of the training.\n  
URL:https://opqic.org/event/opnf-bootcamp-newborn-transition-and-care-3/
LOCATION:Norman Regional Education Center\, 901 N. Porter\, Norman\, OK\, United States
CATEGORIES:Training
END:VEVENT
BEGIN:VEVENT
DTSTART;TZID=America/Chicago:20190717T073000
DTEND;TZID=America/Chicago:20190717T163000
DTSTAMP:20260424T075945
CREATED:20190516T160250Z
LAST-MODIFIED:20190516T160250Z
UID:9258-1563348600-1563381000@opqic.org
SUMMARY:OPNF Bootcamp: Disorders of Pregnancy & Breastfeeding Basics
DESCRIPTION:          \n*Evaluations will not be available until the date of the training.\n  
URL:https://opqic.org/event/opnf-bootcamp-disorders-of-pregnancy-breastfeeding-basics-2/
LOCATION:Norman Regional Education Center\, 901 N. Porter\, Norman\, OK\, United States
CATEGORIES:Training
END:VEVENT
BEGIN:VEVENT
DTSTART;TZID=America/Chicago:20190716T080000
DTEND;TZID=America/Chicago:20190716T170000
DTSTAMP:20260424T075945
CREATED:20190306T170015Z
LAST-MODIFIED:20190306T170015Z
UID:9028-1563264000-1563296400@opqic.org
SUMMARY:Breastfeeding Basics: Making Breastfeeding Easier
DESCRIPTION:1-day Training Course \n$ FREE (via a contract with the Oklahoma State Department of Health) \n7.5 CEUs \nAgenda \nThis class teaches health care staff current information and skills to support breastfeeding mothers and their children\, particularly during the prenatal and early postpartum periods. The class utilizes various modes of learning\, including hands on activities\, videos\, small group work\, equipment demonstration\, etc. Class participants will be evaluated for basic breastfeeding competencies and receive 7.5 nursing contact hours. This class is appropriate for hospital and clinic staff as well as providers in community settings (e.g. doulas\, peer counselors). \nRegister Here \n 
URL:https://opqic.org/event/breastfeeding-basics-making-breastfeeding-easier-2/
LOCATION:Samis Education Center\, 1200 Children's Ave\, Oklahoma City\, OK\, 73104\, United States
CATEGORIES:Training
END:VEVENT
BEGIN:VEVENT
DTSTART;TZID=America/Chicago:20190716T073000
DTEND;TZID=America/Chicago:20190716T163000
DTSTAMP:20260424T075945
CREATED:20190516T160128Z
LAST-MODIFIED:20190516T160128Z
UID:9256-1563262200-1563294600@opqic.org
SUMMARY:OPNF Bootcamp: OB Complications & Simulations
DESCRIPTION:          \n*Evaluations will not be available until the date of the training.\n  
URL:https://opqic.org/event/opnf-bootcamp-ob-complications-simulations-2/
LOCATION:Norman Regional Education Center\, 901 N. Porter\, Norman\, OK\, United States
CATEGORIES:Training
END:VEVENT
BEGIN:VEVENT
DTSTART;TZID=America/Chicago:20190712T073000
DTEND;TZID=America/Chicago:20190712T163000
DTSTAMP:20260424T075945
CREATED:20190516T155944Z
LAST-MODIFIED:20190516T155944Z
UID:9254-1562916600-1562949000@opqic.org
SUMMARY:OPNF Bootcamp: Care of the Laboring Mother
DESCRIPTION:          \n*Evaluations will not be available until the date of the training.\n  
URL:https://opqic.org/event/opnf-bootcamp-care-of-the-laboring-mother-9/
LOCATION:Norman Regional Education Center\, 901 N. Porter\, Norman\, OK\, United States
CATEGORIES:Training
END:VEVENT
BEGIN:VEVENT
DTSTART;TZID=America/Chicago:20190711T073000
DTEND;TZID=America/Chicago:20190711T163000
DTSTAMP:20260424T075945
CREATED:20190516T155835Z
LAST-MODIFIED:20190516T155835Z
UID:9251-1562830200-1562862600@opqic.org
SUMMARY:OPNF Bootcamp: Intro to Fetal Heart Monitoring
DESCRIPTION:          \n*Evaluations will not be available until the date of the training.\n  
URL:https://opqic.org/event/opnf-bootcamp-intro-to-fetal-heart-monitoring-2/
LOCATION:Norman Regional Education Center\, 901 N. Porter\, Norman\, OK\, United States
CATEGORIES:Training
END:VEVENT
BEGIN:VEVENT
DTSTART;TZID=America/Chicago:20190710T090000
DTEND;TZID=America/Chicago:20190710T173000
DTSTAMP:20260424T075945
CREATED:20181127T184435Z
LAST-MODIFIED:20181127T184435Z
UID:8611-1562749200-1562779800@opqic.org
SUMMARY:PCEP
DESCRIPTION:Click here to find out more about PCEP.
URL:https://opqic.org/event/pcep-8/
LOCATION:OK
CATEGORIES:OPQIC,Training
END:VEVENT
BEGIN:VEVENT
DTSTART;TZID=America/Chicago:20190624T080000
DTEND;TZID=America/Chicago:20190625T170000
DTSTAMP:20260424T075945
CREATED:20190306T170310Z
LAST-MODIFIED:20190306T170310Z
UID:9032-1561363200-1561482000@opqic.org
SUMMARY:Breastfeeding Basics and Beyond
DESCRIPTION:2-day Training Course \n$FREE \n11.8 CEUs \nAgenda \nThis class teaches health care staff current information and skills to support breastfeeding mothers and their children\, during the prenatal\, early postpartum periods and beyond\, including topics such as milk production\, dads/partners and the workplace.  This class utilizes various modes of learning\, including pre and post self-assessments\, hands-on activities\, videos\, small group work\, equipment demonstration\, etc. Class participants will be evaluated for basic breastfeeding competencies and receive 11.8 nursing contact hours. This class is appropriate for hospital and clinic staff as well as home visiting staff and other providers in community settings (e.g. doulas\, peer counselors). \nCLICK HERE TO REGISTER. \n 
URL:https://opqic.org/event/breastfeeding-basics-and-beyond/
LOCATION:OK
CATEGORIES:Training
END:VEVENT
BEGIN:VEVENT
DTSTART;TZID=America/Chicago:20190608T093000
DTEND;TZID=America/Chicago:20190608T173000
DTSTAMP:20260424T075945
CREATED:20180710T122049Z
LAST-MODIFIED:20180710T122049Z
UID:8086-1559986200-1560015000@opqic.org
SUMMARY:FREE LARC Provider Training
DESCRIPTION:Providers who provide family planning services to patients that are 18 and under are eligible for this no cost training. \n\nTimes:\nFull Training: 9:30 AM – 5:30 PM\nFor those who have completed the FDA mandated implant training: 9:30 AM to 3:30 PM\n\n \n\n\n\nFor more information\, contact: focusforwardok@okhca.org
URL:https://opqic.org/event/free-larc-provider-training-20/
LOCATION:OSU Tulsa\, 700 N Greenwood Ave\, Tulsa\, OK\, 74106\, United States
CATEGORIES:Training
END:VEVENT
BEGIN:VEVENT
DTSTART;TZID=America/Chicago:20190525T080000
DTEND;TZID=America/Chicago:20190525T170000
DTSTAMP:20260424T075945
CREATED:20190208T140838Z
LAST-MODIFIED:20190208T140838Z
UID:8921-1558771200-1558803600@opqic.org
SUMMARY:Buprenorphine Waiver Training - Tulsa
DESCRIPTION:The purpose of this is to better prepare physicians and medical students to identify individuals with opioid use disorders and to engage those patients in medication-assisted treatment for their opioid use disorder. \nThe course will be a total of 8 hours of in-person lecture\, which will cover all medications and treatments for opioid use disorder\, and provides the required education needed to obtain the waiver to prescribe buprenorphine. \nLunch is not provided. A one-hour lunch break is planned to allow participants to dine off campus or order food for delivery to the building. Personal snacks and beverages are welcome in the event room. \nDistinguished Speakers  \nJason Beaman\, D.O.\, M.S.\, M.P.H\nChair\, Department of Psychiatry and Behavioral Sciences\nOklahoma State University – OSU Center for Health Sciences \nSamuel Martin\, M.D.\, FASAM\nDepartment of Psychiatry and Behavioral Sciences\nOklahoma State University – OSU Center for Health Sciences \n**Priority registration is given 2nd year OSU residents. ** \nClick here to register.
URL:https://opqic.org/event/buprenorphine-waiver-training-tulsa-5/
LOCATION:Tandy Conference Center\, 1111 West 17th Street\, Tulsa\, OK\, 74107\, United States
CATEGORIES:Training
END:VEVENT
BEGIN:VEVENT
DTSTART;TZID=America/Chicago:20190522T080000
DTEND;TZID=America/Chicago:20190523T170000
DTSTAMP:20260424T075945
CREATED:20181127T184107Z
LAST-MODIFIED:20181127T184107Z
UID:8604-1558512000-1558630800@opqic.org
SUMMARY:AWHONN IFMC
DESCRIPTION:Click here for more details about AWHONN IFMC. \nClick here to register.
URL:https://opqic.org/event/awhonn-ifmc-12/
LOCATION:Samis Education Center\, 1200 Children's Ave\, Oklahoma City\, OK\, 73104\, United States
CATEGORIES:OPQIC,Training
END:VEVENT
BEGIN:VEVENT
DTSTART;TZID=America/Chicago:20190521T090000
DTEND;TZID=America/Chicago:20190521T123000
DTSTAMP:20260424T075945
CREATED:20190429T160124Z
LAST-MODIFIED:20190429T160124Z
UID:9197-1558429200-1558441800@opqic.org
SUMMARY:Helping Families cope with Perinatal and Infant Loss Training
DESCRIPTION:Please save May 21st for the following Training: Helping Families cope with Perinatal and Infant Loss. Time: 9am-1230pm. The training will be at the ODMHSAS Training Institute: 2000 N. Classen\, 6th Floor. \nThis training will count towards the MCH LCSW credential with the Oklahoma Healthcare Authority. It will also count towards CEUs: LCSW\, LMFT\, LPC\, LADC\, CM\, PRSS.
URL:https://opqic.org/event/helping-families-cope-with-perinatal-and-infant-loss-training/
LOCATION:Oklahoma Department of Mental Health and Substance Abuse Services\, 2000 N. Classen\, Oklahoma City\, OK\, 73106\, United States
CATEGORIES:Training
END:VEVENT
BEGIN:VEVENT
DTSTART;TZID=America/Chicago:20190515T080000
DTEND;TZID=America/Chicago:20190515T170000
DTSTAMP:20260424T075945
CREATED:20190208T140752Z
LAST-MODIFIED:20190208T140752Z
UID:8919-1557907200-1557939600@opqic.org
SUMMARY:Buprenorphine Waiver Training - Tulsa
DESCRIPTION:The purpose of this is to better prepare physicians and medical students to identify individuals with opioid use disorders and to engage those patients in medication-assisted treatment for their opioid use disorder. \nThe course will be a total of 8 hours of in-person lecture\, which will cover all medications and treatments for opioid use disorder\, and provides the required education needed to obtain the waiver to prescribe buprenorphine. \nLunch is not provided. A one-hour lunch break is planned to allow participants to dine off campus or order food for delivery to the building. Personal snacks and beverages are welcome in the event room. \nDistinguished Speakers  \nJason Beaman\, D.O.\, M.S.\, M.P.H\nChair\, Department of Psychiatry and Behavioral Sciences\nOklahoma State University – OSU Center for Health Sciences \nSamuel Martin\, M.D.\, FASAM\nDepartment of Psychiatry and Behavioral Sciences\nOklahoma State University – OSU Center for Health Sciences \n**Priority registration is given 2nd year OSU residents. ** \nClick here to register.
URL:https://opqic.org/event/buprenorphine-waiver-training-tulsa-4/
LOCATION:Tandy Conference Center\, 1111 West 17th Street\, Tulsa\, OK\, 74107\, United States
CATEGORIES:Training
END:VEVENT
BEGIN:VEVENT
DTSTART;TZID=America/Chicago:20190514T090000
DTEND;TZID=America/Chicago:20190514T120000
DTSTAMP:20260424T075945
CREATED:20181011T183409Z
LAST-MODIFIED:20181011T183409Z
UID:8414-1557824400-1557835200@opqic.org
SUMMARY:Safe Sleep Training
DESCRIPTION:Providing training on The American Academy of Pediatrics (AAP) Guidelines for Infant Safe Sleep \nWho should attend? \nAnyone interested in providing education on Infant Safe Sleep. CECPD CEUs available for this training. \nRegister: Click here to register \nThe training is free of charge to participants\, but you must register. Space is limited \nFor more information contact: \nTaffy Henderson at (405)419-4179 or Taffy_Henderson@occhd.org
URL:https://opqic.org/event/safe-sleep-training-4/
LOCATION:OK
CATEGORIES:Training
END:VEVENT
BEGIN:VEVENT
DTSTART;TZID=America/Chicago:20190511T093000
DTEND;TZID=America/Chicago:20190511T173000
DTSTAMP:20260424T075945
CREATED:20180710T122011Z
LAST-MODIFIED:20180710T122011Z
UID:8084-1557567000-1557595800@opqic.org
SUMMARY:FREE LARC Provider Training
DESCRIPTION:Providers who provide family planning services to patients that are 18 and under are eligible for this no cost training. \nTimes:\nFull Training: 9:30 AM – 5:30 PM\nFor those who have completed the FDA mandated implant training: 9:30 AM to 3:30 PM\n \n\n\n\nFor more information\, contact: focusforwardok@okhca.org
URL:https://opqic.org/event/free-larc-provider-training-19/
LOCATION:SCOUT\, 4502 E. 41st St.\, Tulsa\, OK\, 74135\, United States
CATEGORIES:Training
END:VEVENT
BEGIN:VEVENT
DTSTART;TZID=America/Chicago:20190426T080000
DTEND;TZID=America/Chicago:20190426T163000
DTSTAMP:20260424T075945
CREATED:20190228T232122Z
LAST-MODIFIED:20190228T232122Z
UID:9007-1556265600-1556296200@opqic.org
SUMMARY:Birth Worker's Conference
DESCRIPTION:Building Bridges for Healthier Birth Outcomes \nGeneral Admission: $145 \nFor more information and to register: https://BuildingBirthBridges.eventbrite.com \nClick here to view the flyer.
URL:https://opqic.org/event/birth-workers-conference/
LOCATION:The Children’s Center Rehabilitation Hospital’s Gaylord Foundation\, 6800 NW 39th St\, Oklahoma City\, OK\, United States
CATEGORIES:Training
END:VEVENT
BEGIN:VEVENT
DTSTART;TZID=America/Chicago:20190425T080000
DTEND;TZID=America/Chicago:20190425T170000
DTSTAMP:20260424T075945
CREATED:20190306T165858Z
LAST-MODIFIED:20190306T165858Z
UID:9026-1556179200-1556211600@opqic.org
SUMMARY:Breastfeeding Basics: Making Breastfeeding Easier
DESCRIPTION:1-day Training Course \n$ FREE (via a contract with the Oklahoma State Department of Health) \n7.5 CEUs \nAgenda \nThis class teaches health care staff current information and skills to support breastfeeding mothers and their children\, particularly during the prenatal and early postpartum periods. The class utilizes various modes of learning\, including hands on activities\, videos\, small group work\, equipment demonstration\, etc. Class participants will be evaluated for basic breastfeeding competencies and receive 7.5 nursing contact hours. This class is appropriate for hospital and clinic staff as well as providers in community settings (e.g. doulas\, peer counselors). \nRegister Here
URL:https://opqic.org/event/breastfeeding-basics-making-breastfeeding-easier/
LOCATION:Samis Education Center\, 1200 Children's Ave\, Oklahoma City\, OK\, 73104\, United States
CATEGORIES:Training
END:VEVENT
BEGIN:VEVENT
DTSTART;TZID=America/Chicago:20190413T093000
DTEND;TZID=America/Chicago:20190413T173000
DTSTAMP:20260424T075945
CREATED:20180710T121739Z
LAST-MODIFIED:20180710T121739Z
UID:8078-1555147800-1555176600@opqic.org
SUMMARY:FREE LARC Provider Training
DESCRIPTION:Providers who provide family planning services to patients that are 18 and under are eligible for this no cost training. \n\nTimes:\nFull Training: 9:30 AM – 5:30 PM\nFor those who have completed the FDA mandated implant training: 9:30 AM to 3:30 PM\n\n \n\n\n\nFor more information\, contact: focusforwardok@okhca.org
URL:https://opqic.org/event/free-larc-provider-training-16/
LOCATION:CSETC\, 940 NE 13th St.\, Oklahoma City\, OK
CATEGORIES:Training
END:VEVENT
BEGIN:VEVENT
DTSTART;TZID=America/Chicago:20190411T080000
DTEND;TZID=America/Chicago:20190411T170000
DTSTAMP:20260424T075945
CREATED:20190208T140658Z
LAST-MODIFIED:20190208T140658Z
UID:8917-1554969600-1555002000@opqic.org
SUMMARY:Buprenorphine Waiver Training - Tulsa
DESCRIPTION:The purpose of this is to better prepare physicians and medical students to identify individuals with opioid use disorders and to engage those patients in medication-assisted treatment for their opioid use disorder. \nThe course will be a total of 8 hours of in-person lecture\, which will cover all medications and treatments for opioid use disorder\, and provides the required education needed to obtain the waiver to prescribe buprenorphine. \nLunch is not provided. A one-hour lunch break is planned to allow participants to dine off campus or order food for delivery to the building. Personal snacks and beverages are welcome in the event room. \nDistinguished Speakers  \nJason Beaman\, D.O.\, M.S.\, M.P.H\nChair\, Department of Psychiatry and Behavioral Sciences\nOklahoma State University – OSU Center for Health Sciences \nSamuel Martin\, M.D.\, FASAM\nDepartment of Psychiatry and Behavioral Sciences\nOklahoma State University – OSU Center for Health Sciences \n**Priority registration is given 2nd year OSU residents. ** \nClick here to register.
URL:https://opqic.org/event/buprenorphine-waiver-training-tulsa-3/
LOCATION:Tandy Conference Center\, 1111 West 17th Street\, Tulsa\, OK\, 74107\, United States
CATEGORIES:Training
END:VEVENT
BEGIN:VEVENT
DTSTART;TZID=America/Chicago:20190309T093000
DTEND;TZID=America/Chicago:20190309T173000
DTSTAMP:20260424T075945
CREATED:20180710T121923Z
LAST-MODIFIED:20180710T121923Z
UID:8082-1552123800-1552152600@opqic.org
SUMMARY:FREE LARC Provider Training
DESCRIPTION:Providers who provide family planning services to patients that are 18 and under are eligible for this no cost training. \nTimes:\nFull Training: 9:30 AM – 5:30 PM\nFor those who have completed the FDA mandated implant training: 9:30 AM to 3:30 PM\n \n\n\n\nFor more information\, contact: focusforwardok@okhca.org
URL:https://opqic.org/event/free-larc-provider-training-18/
LOCATION:OSU Tulsa\, 700 N Greenwood Ave\, Tulsa\, OK\, 74106\, United States
CATEGORIES:Training
END:VEVENT
BEGIN:VEVENT
DTSTART;TZID=America/Chicago:20190309T080000
DTEND;TZID=America/Chicago:20190309T170000
DTSTAMP:20260424T075945
CREATED:20190208T140356Z
LAST-MODIFIED:20190208T140356Z
UID:8914-1552118400-1552150800@opqic.org
SUMMARY:Buprenorphine Waiver Training - Tulsa
DESCRIPTION:The purpose of this is to better prepare physicians and medical students to identify individuals with opioid use disorders and to engage those patients in medication-assisted treatment for their opioid use disorder. \nThe course will be a total of 8 hours of in-person lecture\, which will cover all medications and treatments for opioid use disorder\, and provides the required education needed to obtain the waiver to prescribe buprenorphine. \nLunch is not provided. A one-hour lunch break is planned to allow participants to dine off campus or order food for delivery to the building. Personal snacks and beverages are welcome in the event room. \nDistinguished Speakers  \nJason Beaman\, D.O.\, M.S.\, M.P.H\nChair\, Department of Psychiatry and Behavioral Sciences\nOklahoma State University – OSU Center for Health Sciences \nSamuel Martin\, M.D.\, FASAM\nDepartment of Psychiatry and Behavioral Sciences\nOklahoma State University – OSU Center for Health Sciences \n**Priority registration is given 2nd year OSU residents. ** \nClick here to register.
URL:https://opqic.org/event/buprenorphine-waiver-training-tulsa-2/
LOCATION:Tandy Conference Center\, 1111 West 17th Street\, Tulsa\, OK\, 74107\, United States
CATEGORIES:Training
END:VEVENT
BEGIN:VEVENT
DTSTART;TZID=America/Chicago:20190301T073000
DTEND;TZID=America/Chicago:20190301T123000
DTSTAMP:20260424T075945
CREATED:20190130T153339Z
LAST-MODIFIED:20190130T153339Z
UID:8854-1551425400-1551443400@opqic.org
SUMMARY:MAT Buprenorphine Waiver Training (TULSA)
DESCRIPTION:7:30am  ~ Sign-In and Breakfast\n8:00am – 12:30pm  ~ Training \nHyatt Regency Tulsa\nPromenade Ballroom Salon A\n100 E 2nd St\nTulsa\, OK  74103 \nSpeakers:\nJason Beaman\, D.O.\nSamuel Martin\, M.D. \nClass Size Is Limited To 50\nThis course is open to Osteopathic Physicians\, Allopathic Physicians\, Physician Assistants and Nurse Practitioners who have a valid medical license and an active DEA number.
URL:https://opqic.org/event/mat-buprenorphine-waiver-training-tulsa/
LOCATION:Hyatt Regency Tulsa\, 100 E 2nd ST\, Tulsa\, OK\, 74103\, United States
CATEGORIES:Training
END:VEVENT
BEGIN:VEVENT
DTSTART;TZID=America/Chicago:20190227T080000
DTEND;TZID=America/Chicago:20190228T170000
DTSTAMP:20260424T075945
CREATED:20181127T184019Z
LAST-MODIFIED:20181127T184019Z
UID:8602-1551254400-1551373200@opqic.org
SUMMARY:AWHONN IFMC
DESCRIPTION:Click here for more details about AWHONN IFMC. \nClick here to register.
URL:https://opqic.org/event/awhonn-ifmc-11/
LOCATION:Samis Education Center\, 1200 Children's Ave\, Oklahoma City\, OK\, 73104\, United States
CATEGORIES:OPQIC,Training
END:VEVENT
BEGIN:VEVENT
DTSTART;TZID=America/Chicago:20190220T073000
DTEND;TZID=America/Chicago:20190220T163000
DTSTAMP:20260424T075945
CREATED:20181220T200903Z
LAST-MODIFIED:20181220T200903Z
UID:8723-1550647800-1550680200@opqic.org
SUMMARY:CANCELLED: OPNF Bootcamp: Newborn Transition & Care
DESCRIPTION:            \n*Evaluations will not be available until the date of the training.\n  
URL:https://opqic.org/event/opnf-bootcamp-newborn-transition-care/
LOCATION:OK
CATEGORIES:Training
END:VEVENT
BEGIN:VEVENT
DTSTART;TZID=America/Chicago:20190215T073000
DTEND;TZID=America/Chicago:20190215T163000
DTSTAMP:20260424T075945
CREATED:20181220T200826Z
LAST-MODIFIED:20181220T200826Z
UID:8721-1550215800-1550248200@opqic.org
SUMMARY:OPNF Bootcamp: Disorders of Pregnancy & Breastfeeding Basics
DESCRIPTION:            \n*Evaluations will not be available until the date of the training.\n  
URL:https://opqic.org/event/opnf-bootcamp-disorders-of-pregnancy-breastfeeding-basics/
LOCATION:OK
CATEGORIES:Training
END:VEVENT
BEGIN:VEVENT
DTSTART;TZID=America/Chicago:20190214T073000
DTEND;TZID=America/Chicago:20190214T163000
DTSTAMP:20260424T075945
CREATED:20181220T200746Z
LAST-MODIFIED:20181220T200746Z
UID:8719-1550129400-1550161800@opqic.org
SUMMARY:OPNF Bootcamp: OB Complications & Simulations
DESCRIPTION:            \n*Evaluations will not be available until the date of the training.\n  
URL:https://opqic.org/event/opnf-bootcamp-ob-complications-simulations/
LOCATION:OK
CATEGORIES:Training
END:VEVENT
BEGIN:VEVENT
DTSTART;TZID=America/Chicago:20190212T090000
DTEND;TZID=America/Chicago:20190212T120000
DTSTAMP:20260424T075945
CREATED:20181011T183241Z
LAST-MODIFIED:20181011T183241Z
UID:8411-1549962000-1549972800@opqic.org
SUMMARY:Safe Sleep Training
DESCRIPTION:Providing training on The American Academy of Pediatrics (AAP) Guidelines for Infant Safe Sleep \nWho should attend? \nAnyone interested in providing education on Infant Safe Sleep. CECPD CEUs available for this training. \nRegister: Click here to register \nThe training is free of charge to participants\, but you must register. Space is limited \nFor more information contact: \nTaffy Henderson at (405)419-4179 or Taffy_Henderson@occhd.org
URL:https://opqic.org/event/safe-sleep-training-3/
LOCATION:Oklahoma City County Health Department\, 2600 NE 63rd St.\, Oklahoma City\, OK\, 73111\, United States
CATEGORIES:Training
END:VEVENT
BEGIN:VEVENT
DTSTART;TZID=America/Chicago:20190209T093000
DTEND;TZID=America/Chicago:20190209T173000
DTSTAMP:20260424T075945
CREATED:20180710T120726Z
LAST-MODIFIED:20180710T120726Z
UID:8076-1549704600-1549733400@opqic.org
SUMMARY:FREE LARC Provider Training
DESCRIPTION:Providers who provide family planning services to patients that are 18 and under are eligible for this no cost training. \n\nTimes:\nFull Training: 9:30 AM – 5:30 PM\nFor those who have completed the FDA mandated implant training: 9:30 AM to 3:30 PM\n\n \n\n\n\nFor more information\, contact: focusforwardok@okhca.org
URL:https://opqic.org/event/free-larc-provider-training-15/
LOCATION:CSETC\, 940 NE 13th St.\, Oklahoma City\, OK
CATEGORIES:Training
END:VEVENT
BEGIN:VEVENT
DTSTART;TZID=America/Chicago:20190208T073000
DTEND;TZID=America/Chicago:20190208T163000
DTSTAMP:20260424T075945
CREATED:20181220T200713Z
LAST-MODIFIED:20181220T200713Z
UID:8717-1549611000-1549643400@opqic.org
SUMMARY:OPNF Bootcamp: Care of the Laboring Mother
DESCRIPTION:            \n*Evaluations will not be available until the date of the training.\n  
URL:https://opqic.org/event/opnf-bootcamp-care-of-the-laboring-mother-8/
LOCATION:OK
CATEGORIES:Training
END:VEVENT
END:VCALENDAR