BEGIN:VCALENDAR
VERSION:2.0
PRODID:-//OPQIC - ECPv6.15.20//NONSGML v1.0//EN
CALSCALE:GREGORIAN
METHOD:PUBLISH
X-ORIGINAL-URL:https://opqic.org
X-WR-CALDESC:Events for OPQIC
REFRESH-INTERVAL;VALUE=DURATION:PT1H
X-Robots-Tag:noindex
X-PUBLISHED-TTL:PT1H
BEGIN:VTIMEZONE
TZID:America/Chicago
BEGIN:DAYLIGHT
TZOFFSETFROM:-0600
TZOFFSETTO:-0500
TZNAME:CDT
DTSTART:20230312T080000
END:DAYLIGHT
BEGIN:STANDARD
TZOFFSETFROM:-0500
TZOFFSETTO:-0600
TZNAME:CST
DTSTART:20231105T070000
END:STANDARD
BEGIN:DAYLIGHT
TZOFFSETFROM:-0600
TZOFFSETTO:-0500
TZNAME:CDT
DTSTART:20240310T080000
END:DAYLIGHT
BEGIN:STANDARD
TZOFFSETFROM:-0500
TZOFFSETTO:-0600
TZNAME:CST
DTSTART:20241103T070000
END:STANDARD
BEGIN:DAYLIGHT
TZOFFSETFROM:-0600
TZOFFSETTO:-0500
TZNAME:CDT
DTSTART:20250309T080000
END:DAYLIGHT
BEGIN:STANDARD
TZOFFSETFROM:-0500
TZOFFSETTO:-0600
TZNAME:CST
DTSTART:20251102T070000
END:STANDARD
END:VTIMEZONE
BEGIN:VEVENT
DTSTART;TZID=America/Chicago:20241105T090000
DTEND;TZID=America/Chicago:20241105T120000
DTSTAMP:20260424T213307
CREATED:20240206T185758Z
LAST-MODIFIED:20240206T185758Z
UID:17936-1730797200-1730808000@opqic.org
SUMMARY:OKC County Health Department: Safe Sleep for Professionals
DESCRIPTION:New 3 hour formal training covers the updated 2022 AAP recommendations on Infant Safe Sleep\nMeets OKDHS Child Care Services Safe Training requirement\nAll trainings are 9am – 12pm\nRegistration is required\n\nSafe Sleep 2024 Dates
URL:https://opqic.org/event/okc-county-health-department-safe-sleep-for-professionals-3/
LOCATION:Oklahoma
CATEGORIES:Training
END:VEVENT
BEGIN:VEVENT
DTSTART;TZID=America/Chicago:20241107T180000
DTEND;TZID=America/Chicago:20241107T200000
DTSTAMP:20260424T213307
CREATED:20241016T165055Z
LAST-MODIFIED:20241016T165429Z
UID:18629-1731002400-1731009600@opqic.org
SUMMARY:Addressing the Syphilis Crisis in Oklahoma: A provider Call to Action
DESCRIPTION:  \nSpace is limited for this event. You will receive an email when your registration is approved. \nThis 90-minute symposium for clinical providers will provide a case-based discussion\nabout syphilis in Oklahoma and how to prevent syphilis in pregnancy.
URL:https://opqic.org/event/addressing-the-syphilis-crisis-in-oklahoma-a-provider-call-to-action/
LOCATION:North Regional Health Center\, 5635 MLK JR BLVD\, Tulsa\, OK\, 74126
CATEGORIES:Training
ATTACH;FMTTYPE=image/png:https://opqic.org/wp-content/uploads/2024/10/Screenshot-2024-10-16-115356.png
END:VEVENT
END:VCALENDAR