BEGIN:VCALENDAR
VERSION:2.0
PRODID:-//OPQIC - ECPv6.15.20//NONSGML v1.0//EN
CALSCALE:GREGORIAN
METHOD:PUBLISH
X-WR-CALNAME:OPQIC
X-ORIGINAL-URL:https://opqic.org
X-WR-CALDESC:Events for OPQIC
REFRESH-INTERVAL;VALUE=DURATION:PT1H
X-Robots-Tag:noindex
X-PUBLISHED-TTL:PT1H
BEGIN:VTIMEZONE
TZID:America/Chicago
BEGIN:DAYLIGHT
TZOFFSETFROM:-0600
TZOFFSETTO:-0500
TZNAME:CDT
DTSTART:20240310T080000
END:DAYLIGHT
BEGIN:STANDARD
TZOFFSETFROM:-0500
TZOFFSETTO:-0600
TZNAME:CST
DTSTART:20241103T070000
END:STANDARD
BEGIN:DAYLIGHT
TZOFFSETFROM:-0600
TZOFFSETTO:-0500
TZNAME:CDT
DTSTART:20250309T080000
END:DAYLIGHT
BEGIN:STANDARD
TZOFFSETFROM:-0500
TZOFFSETTO:-0600
TZNAME:CST
DTSTART:20251102T070000
END:STANDARD
BEGIN:DAYLIGHT
TZOFFSETFROM:-0600
TZOFFSETTO:-0500
TZNAME:CDT
DTSTART:20260308T080000
END:DAYLIGHT
BEGIN:STANDARD
TZOFFSETFROM:-0500
TZOFFSETTO:-0600
TZNAME:CST
DTSTART:20261101T070000
END:STANDARD
END:VTIMEZONE
BEGIN:VEVENT
DTSTART;TZID=America/Chicago:20250723T123000
DTEND;TZID=America/Chicago:20250723T140000
DTSTAMP:20260424T032328
CREATED:20250523T172053Z
LAST-MODIFIED:20250523T172339Z
UID:19695-1753273800-1753279200@opqic.org
SUMMARY:Perinatal Substance Use Disorders 101
DESCRIPTION:Join this complementary introduction to perinatal SUD training hosted by the Policy Center\, Postpartum Support International and Colorado Department of Public Health. Learn more about how to recognize and effectively respond to substance use concerns during pregnancy\, early parenthood\, and with the birthing parent/child dyad. Considerations related to treatment and supporting the parent-child relationship will be discussed. The training is designed for providers\, administrators\, and public health employees\, though all are welcome.
URL:https://opqic.org/event/perinatal-substance-use-disorders-101/
CATEGORIES:Policy Center for MMH,Webinar
END:VEVENT
END:VCALENDAR