BEGIN:VCALENDAR
VERSION:2.0
PRODID:-//OPQIC - ECPv6.15.20//NONSGML v1.0//EN
CALSCALE:GREGORIAN
METHOD:PUBLISH
X-WR-CALNAME:OPQIC
X-ORIGINAL-URL:https://opqic.org
X-WR-CALDESC:Events for OPQIC
REFRESH-INTERVAL;VALUE=DURATION:PT1H
X-Robots-Tag:noindex
X-PUBLISHED-TTL:PT1H
BEGIN:VTIMEZONE
TZID:America/Chicago
BEGIN:DAYLIGHT
TZOFFSETFROM:-0600
TZOFFSETTO:-0500
TZNAME:CDT
DTSTART:20250309T080000
END:DAYLIGHT
BEGIN:STANDARD
TZOFFSETFROM:-0500
TZOFFSETTO:-0600
TZNAME:CST
DTSTART:20251102T070000
END:STANDARD
BEGIN:DAYLIGHT
TZOFFSETFROM:-0600
TZOFFSETTO:-0500
TZNAME:CDT
DTSTART:20260308T080000
END:DAYLIGHT
BEGIN:STANDARD
TZOFFSETFROM:-0500
TZOFFSETTO:-0600
TZNAME:CST
DTSTART:20261101T070000
END:STANDARD
BEGIN:DAYLIGHT
TZOFFSETFROM:-0600
TZOFFSETTO:-0500
TZNAME:CDT
DTSTART:20270314T080000
END:DAYLIGHT
BEGIN:STANDARD
TZOFFSETFROM:-0500
TZOFFSETTO:-0600
TZNAME:CST
DTSTART:20271107T070000
END:STANDARD
END:VTIMEZONE
BEGIN:VEVENT
DTSTART;TZID=America/Chicago:20260707T090000
DTEND;TZID=America/Chicago:20260707T103000
DTSTAMP:20260423T174038
CREATED:20260120T120404Z
LAST-MODIFIED:20260120T120541Z
UID:20784-1783414800-1783420200@opqic.org
SUMMARY:TeamBirth Knowledge Sharing Session
DESCRIPTION:This virtual quarterly collaborative brings together Oklahoma hospitals to share knowledge\, tips\, and lessons learned related to implementing TeamBirth. Meetings are held on the first Tuesday of January\, April\, July\, and October. Participation is limited to staff from Oklahoma hospitals. For additional information about the meeting or TeamBirth\, please contact Katie Morgan.
URL:https://opqic.org/event/teambirth-knowledge-sharing-session-2/
LOCATION:OK
CATEGORIES:OPQIC
END:VEVENT
END:VCALENDAR