BEGIN:VCALENDAR
VERSION:2.0
PRODID:-//OPQIC - ECPv6.15.20//NONSGML v1.0//EN
CALSCALE:GREGORIAN
METHOD:PUBLISH
X-WR-CALNAME:OPQIC
X-ORIGINAL-URL:https://opqic.org
X-WR-CALDESC:Events for OPQIC
REFRESH-INTERVAL;VALUE=DURATION:PT1H
X-Robots-Tag:noindex
X-PUBLISHED-TTL:PT1H
BEGIN:VTIMEZONE
TZID:America/Chicago
BEGIN:DAYLIGHT
TZOFFSETFROM:-0600
TZOFFSETTO:-0500
TZNAME:CDT
DTSTART:20230312T080000
END:DAYLIGHT
BEGIN:STANDARD
TZOFFSETFROM:-0500
TZOFFSETTO:-0600
TZNAME:CST
DTSTART:20231105T070000
END:STANDARD
BEGIN:DAYLIGHT
TZOFFSETFROM:-0600
TZOFFSETTO:-0500
TZNAME:CDT
DTSTART:20240310T080000
END:DAYLIGHT
BEGIN:STANDARD
TZOFFSETFROM:-0500
TZOFFSETTO:-0600
TZNAME:CST
DTSTART:20241103T070000
END:STANDARD
BEGIN:DAYLIGHT
TZOFFSETFROM:-0600
TZOFFSETTO:-0500
TZNAME:CDT
DTSTART:20250309T080000
END:DAYLIGHT
BEGIN:STANDARD
TZOFFSETFROM:-0500
TZOFFSETTO:-0600
TZNAME:CST
DTSTART:20251102T070000
END:STANDARD
END:VTIMEZONE
BEGIN:VEVENT
DTSTART;TZID=America/Chicago:20241119T090000
DTEND;TZID=America/Chicago:20241119T160000
DTSTAMP:20260424T172611
CREATED:20240709T174242Z
LAST-MODIFIED:20241122T175642Z
UID:18292-1732006800-1732032000@opqic.org
SUMMARY:2024 OPQIC Annual Summit
DESCRIPTION:Go to OPQIC Summit 2024 page for presentations and pictures
URL:https://opqic.org/event/2024-opqic-annual-summit/
LOCATION:Oklahoma City Convention Center\, 100 Mick Cornett Dr.\, Oklahoma City\, OK\, 73109\, United States
CATEGORIES:OPQIC
END:VEVENT
END:VCALENDAR