BEGIN:VCALENDAR
VERSION:2.0
PRODID:-//OPQIC - ECPv6.15.20//NONSGML v1.0//EN
CALSCALE:GREGORIAN
METHOD:PUBLISH
X-WR-CALNAME:OPQIC
X-ORIGINAL-URL:https://opqic.org
X-WR-CALDESC:Events for OPQIC
REFRESH-INTERVAL;VALUE=DURATION:PT1H
X-Robots-Tag:noindex
X-PUBLISHED-TTL:PT1H
BEGIN:VTIMEZONE
TZID:America/Chicago
BEGIN:DAYLIGHT
TZOFFSETFROM:-0600
TZOFFSETTO:-0500
TZNAME:CDT
DTSTART:20230312T080000
END:DAYLIGHT
BEGIN:STANDARD
TZOFFSETFROM:-0500
TZOFFSETTO:-0600
TZNAME:CST
DTSTART:20231105T070000
END:STANDARD
BEGIN:DAYLIGHT
TZOFFSETFROM:-0600
TZOFFSETTO:-0500
TZNAME:CDT
DTSTART:20240310T080000
END:DAYLIGHT
BEGIN:STANDARD
TZOFFSETFROM:-0500
TZOFFSETTO:-0600
TZNAME:CST
DTSTART:20241103T070000
END:STANDARD
BEGIN:DAYLIGHT
TZOFFSETFROM:-0600
TZOFFSETTO:-0500
TZNAME:CDT
DTSTART:20250309T080000
END:DAYLIGHT
BEGIN:STANDARD
TZOFFSETFROM:-0500
TZOFFSETTO:-0600
TZNAME:CST
DTSTART:20251102T070000
END:STANDARD
END:VTIMEZONE
BEGIN:VEVENT
DTSTART;TZID=America/Chicago:20241212T113000
DTEND;TZID=America/Chicago:20241212T133000
DTSTAMP:20260423T210200
CREATED:20241031T011440Z
LAST-MODIFIED:20241031T011440Z
UID:18662-1734003000-1734010200@opqic.org
SUMMARY:OPNF Quarterly Meeting
DESCRIPTION:Lunch provided.
URL:https://opqic.org/event/opnf-quarterly-meeting-11/
LOCATION:Oklahoma Hospital Association\, 4000 N. Lincoln\, Oklahoma City\, OK\, 73105
CATEGORIES:OPNF
END:VEVENT
END:VCALENDAR