BEGIN:VCALENDAR
VERSION:2.0
PRODID:-//OPQIC - ECPv6.15.20//NONSGML v1.0//EN
CALSCALE:GREGORIAN
METHOD:PUBLISH
X-WR-CALNAME:OPQIC
X-ORIGINAL-URL:https://opqic.org
X-WR-CALDESC:Events for OPQIC
REFRESH-INTERVAL;VALUE=DURATION:PT1H
X-Robots-Tag:noindex
X-PUBLISHED-TTL:PT1H
BEGIN:VTIMEZONE
TZID:America/Chicago
BEGIN:DAYLIGHT
TZOFFSETFROM:-0600
TZOFFSETTO:-0500
TZNAME:CDT
DTSTART:20210314T080000
END:DAYLIGHT
BEGIN:STANDARD
TZOFFSETFROM:-0500
TZOFFSETTO:-0600
TZNAME:CST
DTSTART:20211107T070000
END:STANDARD
BEGIN:DAYLIGHT
TZOFFSETFROM:-0600
TZOFFSETTO:-0500
TZNAME:CDT
DTSTART:20220313T080000
END:DAYLIGHT
BEGIN:STANDARD
TZOFFSETFROM:-0500
TZOFFSETTO:-0600
TZNAME:CST
DTSTART:20221106T070000
END:STANDARD
BEGIN:DAYLIGHT
TZOFFSETFROM:-0600
TZOFFSETTO:-0500
TZNAME:CDT
DTSTART:20230312T080000
END:DAYLIGHT
BEGIN:STANDARD
TZOFFSETFROM:-0500
TZOFFSETTO:-0600
TZNAME:CST
DTSTART:20231105T070000
END:STANDARD
BEGIN:DAYLIGHT
TZOFFSETFROM:-0600
TZOFFSETTO:-0500
TZNAME:CDT
DTSTART:20240310T080000
END:DAYLIGHT
BEGIN:STANDARD
TZOFFSETFROM:-0500
TZOFFSETTO:-0600
TZNAME:CST
DTSTART:20241103T070000
END:STANDARD
BEGIN:DAYLIGHT
TZOFFSETFROM:-0600
TZOFFSETTO:-0500
TZNAME:CDT
DTSTART:20250309T080000
END:DAYLIGHT
BEGIN:STANDARD
TZOFFSETFROM:-0500
TZOFFSETTO:-0600
TZNAME:CST
DTSTART:20251102T070000
END:STANDARD
END:VTIMEZONE
BEGIN:VEVENT
DTSTART;TZID=America/Chicago:20240524T083000
DTEND;TZID=America/Chicago:20240524T170000
DTSTAMP:20260423T210246
CREATED:20240422T200827Z
LAST-MODIFIED:20240422T200905Z
UID:18139-1716539400-1716570000@opqic.org
SUMMARY:Newborn Screening Symposium
DESCRIPTION:
URL:https://opqic.org/event/newborn-screening-symposium/
LOCATION:NCED\, 2801 OK-9\, Norman\, OK\, 73071
CATEGORIES:EVent
END:VEVENT
BEGIN:VEVENT
DTSTART;TZID=America/Chicago:20240301T083000
DTEND;TZID=America/Chicago:20240301T160000
DTSTAMP:20260423T210246
CREATED:20240206T183351Z
LAST-MODIFIED:20240206T183351Z
UID:17930-1709281800-1709308800@opqic.org
SUMMARY:12th Annual Becoming Baby-Friendly in Oklahoma Summit
DESCRIPTION:Click here to register or request an invoice  \nClick here to see the agenda
URL:https://opqic.org/event/12th-annual-becoming-baby-friendly-in-oklahoma-summit/
LOCATION:Moore Norman Technology Center S. Penn Campus\, 13301 S. Pennsylvania Ave\, Oklahoma City\, OK\, United States
CATEGORIES:EVent
END:VEVENT
BEGIN:VEVENT
DTSTART;TZID=America/Chicago:20231219T123000
DTEND;TZID=America/Chicago:20231219T140000
DTSTAMP:20260423T210246
CREATED:20231215T184404Z
LAST-MODIFIED:20231215T222744Z
UID:17806-1702989000-1702994400@opqic.org
SUMMARY:Special Issue on Perinatal Substance Use in the Maternal and Child Health Journal
DESCRIPTION:Just Released: Special Issue on Perinatal Substance Use in the Maternal and Child Health Journal  \nThe Association of Maternal & Child Health Programs (AMCHP) and the Association of State and Territorial Health Officials (ASTHO) are pleased to announce the release of a special issue of the Maternal and Child Health Journal: Public Health Approaches to Perinatal Substance Use. \nThe December 2023 special issue of the Maternal and Child Health Journal features 21 open-access articles focusing on the latest research\, programs\, and policy initiatives related to perinatal substance use. Notably\, the articles highlight tangible program and policy approaches to preventing and mitigating the harms of perinatal substance use and improving maternal and child health. \nPlease join AMCHP and ASTHO on Tuesday\, December 19\, 2023 at 12:30 pm ET for a virtual forum to unveil the special issue. The event will feature remarks by leaders from AMCHP\, ASTHO\, and the Maternal and Child Health Bureau within the Health Resources and Services Administration. A select group of authors from the special issue will present their work and engage in enriching discussion. \nPlease visit AMCHP’s social media toolkit to access sample posts\, graphics\, and more to share across your networks and social media channels. \nRegister Here
URL:https://opqic.org/event/special-issue-on-perinatal-substance-use-in-the-maternal-and-child-health-journal/
LOCATION:OK
CATEGORIES:EVent
END:VEVENT
BEGIN:VEVENT
DTSTART;TZID=America/Chicago:20231107T090000
DTEND;TZID=America/Chicago:20231107T120000
DTSTAMP:20260423T210246
CREATED:20230913T163543Z
LAST-MODIFIED:20230913T163543Z
UID:17550-1699347600-1699358400@opqic.org
SUMMARY:Oklahoma City County Health Department: Safe Sleep Training for Professionals
DESCRIPTION:Safe Sleep Training for Professionals\n\nTuesday\, November 7\, 2023\n09:00 AM – 12:00 PM\n\nHours3.00 / Course Level Formal\n\nEvent Location\nNortheast Regional Health and Wellness Ctr. \n2700 NE 63rd Street \nOklahoma City\,OK73111County Oklahoma / Region OKC Metro \n\n\n\n\nDescription\nThis training is for any childcare\, health care or direct service providers that educate families on safe sleep. \n*This training meets the Oklahoma Child Care Services-Licensing requirement for safe sleep training. \nCourse ID106631/ Course Type General Continuing Education / Course Category Early Childhood \n\n\n\n\n\n\n\nRegistration Required\n\nFee Free Event\nRegister By11/07/2023\n\n\nRegister
URL:https://opqic.org/event/oklahoma-city-county-health-department-safe-sleep-training-for-professionals/
LOCATION:Northeast Reginal Health and Wellness Ctr.\, 2700 NE 63rd Street\, Oklahoma City\, OK\, 73111\, United States
CATEGORIES:EVent,Training
END:VEVENT
BEGIN:VEVENT
DTSTART;TZID=America/Chicago:20230907T080000
DTEND;TZID=America/Chicago:20230907T163000
DTSTAMP:20260423T210246
CREATED:20230809T175748Z
LAST-MODIFIED:20230809T175748Z
UID:17370-1694073600-1694104200@opqic.org
SUMMARY:AWHONN OPS: OB Emergencies Workshop
DESCRIPTION:This is the updated 3rd edition of the workshop which includes: cardiac disease and pregnancy\, maternal sepsis\, malignant hyperthermia\, pre-eclampsia and severe hypertension\, anaphylactoid syndrome of pregnancy\, postpartum hemorrhage\, prolapsed cord\, and uterine rupture. Participants complete an online portion\, receive in-person lecture\, participate in simulations\, table top scenarios and escape rooms. At the AWHONN convention in New Orleans there were demos available and if you were able to attend one you know this is a very exciting and helpful update… we cannot wait to share it with you!\n\nLearning Outcomes: \n\n\n\n 	Identify key factors that place the patient at higher risk for an obstetric emergency.\n \n 	Demonstrate effective management for pregnant or postpartum person during an obstetric emergency.\n \n 	Role-play with a multidisciplinary team using simulation-based cognitive\, behavioral\, and technical learning strategies to practice management of a patient experiencing an obstetric emergency.\n\nParticipant Materials:\n\n\n\n 	The cost is $120 and can be purchased through the AWHONN Store\n \n 	Materials include the prerequisite course\, participant handouts\, and Workshop resources. Nursing contact hours or CME: 10.75 (0.75 pharmacy) Expires: May 31\, 2025\n \n 	NOTE: Successful completion of the prerequisite course is required prior to attending the live portion of the Workshop.\n\n \n\n\nWorkshop Date:          September 7\, 2023 \n\n\nWorkshop Time:            8:00 am- 4:30 pm \n\n\nLocation:         Norman Regional Healthplex \n                         3300 Healthplex Parkway \n                             Norman\, OK 73072 \n\nRegistration Fee:  $100/participant    Registration/Payment Deadline: August 24\, 2023\n\nSubmit Registration/Payment To:\n\nPlease contact Amy Hawley for registration. Payment for Registration Fee will be submitted to the Norman Regional Foundation (invoices available upon request). Please see above for purchase of Participant Materials from AWHONN.\n\nAdditional information: Amy Hawley ahawley@nrh-ok.com; 405-659-2293 (text)\n\nThe course content also meets the Joint Commission requirements for PC 06.01.01 Reduce the likelihood of harm related to maternal hemorrhage and PC.06.03.01 Reduce the likelihood of harm related to maternal severe hypertension/preeclampsia.
URL:https://opqic.org/event/awhonn-ops-ob-emergencies-workshop/
LOCATION:Norman Regional HealthPlex\, 3300 HealthPlex Pkwy\, Norman\, OK\, 73072
CATEGORIES:AWHONN OK,EVent
END:VEVENT
BEGIN:VEVENT
DTSTART;TZID=America/Chicago:20230606T090000
DTEND;TZID=America/Chicago:20230606T120000
DTSTAMP:20260423T210246
CREATED:20230531T184842Z
LAST-MODIFIED:20230531T184953Z
UID:17106-1686042000-1686052800@opqic.org
SUMMARY:FIMR: Virtual Safe Sleep Training
DESCRIPTION:The training is free of charge to participants\, but you must register. \nSpace is limited. \nClick here to register! \nWho should take this course? \nAnyone interested in providing education on Infant Safe Sleep. \nCECPD CEUs available for this training. \nFor more information contact us: \nat (405) 425-4406 or fimr@occhd.org
URL:https://opqic.org/event/fimr-virtual-safe-sleep-training/
LOCATION:OK
CATEGORIES:EVent
END:VEVENT
BEGIN:VEVENT
DTSTART;TZID=America/Chicago:20221115T100000
DTEND;TZID=America/Chicago:20221115T120000
DTSTAMP:20260423T210246
CREATED:20221018T225911Z
LAST-MODIFIED:20230217T225514Z
UID:15945-1668506400-1668513600@opqic.org
SUMMARY:UAMS: Fall POWER Workshop
DESCRIPTION: \n[pdf-embedder url=”https://opqic.org/wp-content/uploads/2022/10/flyer-2.0-2.pdf” title=”flyer 2.0″]\n 
URL:https://opqic.org/event/uams-fall-power-workshop/
LOCATION:OK
CATEGORIES:EVent
END:VEVENT
BEGIN:VEVENT
DTSTART;TZID=America/Chicago:20221025T113000
DTEND;TZID=America/Chicago:20221025T131500
DTSTAMP:20260423T210246
CREATED:20221018T222211Z
LAST-MODIFIED:20221018T222211Z
UID:15939-1666697400-1666703700@opqic.org
SUMMARY:COBA Fall Virtual Meeting & Maternal Health Matters Discussion
DESCRIPTION:COBA Business Meeting 11:30am -12pm \n“Maternal Health Matters” Panel Discussion 12pm -1:15pm \nKate Arnold\, MD\, Chair\, American College of Obstetricians and Gynecologists\, OK Chapter \nCassandra D. Querdibitty\, PhD\, MPH\, TEC Core Program Manager\, Southern Plains Tribal Health Board \nOct 25\, 2022 11:30 AM
URL:https://opqic.org/event/coba-fall-virtual-meeting-maternal-health-matters-discussion/
LOCATION:OK
CATEGORIES:EVent
END:VEVENT
BEGIN:VEVENT
DTSTART;TZID=America/Chicago:20221020T090000
DTEND;TZID=America/Chicago:20221020T120000
DTSTAMP:20260423T210246
CREATED:20221011T154408Z
LAST-MODIFIED:20221011T154408Z
UID:15881-1666256400-1666267200@opqic.org
SUMMARY:Family Care Plan Pilot: A Deeper Dive - The Who\, When\, and How
DESCRIPTION:Tulsa Family Care Plan Pilot: A Deeper Dive\nFront line and field staff from the Child Welfare\, Healthcare\, and Substance Use Treatment systems in Tulsa County will learn in depth about Family Care Plans (FCP) and the rollout strategy for the FCP pilot and associated evaluation in Tulsa County. \n[pdf-embedder url=”https://opqic.org/wp-content/uploads/2022/10/FCP-Save-The-Date-Final.pdf” title=”FCP Save The Date Final”]
URL:https://opqic.org/event/family-care-plan-pilot-a-deeper-dive-the-who-when-and-how/
LOCATION:OK
CATEGORIES:EVent
END:VEVENT
BEGIN:VEVENT
DTSTART;TZID=America/Chicago:20220915T080000
DTEND;TZID=America/Chicago:20220916T170000
DTSTAMP:20260423T210246
CREATED:20220706T191105Z
LAST-MODIFIED:20220706T191105Z
UID:15376-1663228800-1663347600@opqic.org
SUMMARY:5th Annual Neonatal Resuscitation Symposium
DESCRIPTION:
URL:https://opqic.org/event/5th-annual-neonatal-resuscitation-symposium/
LOCATION:OK
CATEGORIES:EVent
END:VEVENT
BEGIN:VEVENT
DTSTART;TZID=America/Chicago:20220414T170000
DTEND;TZID=America/Chicago:20220414T200000
DTSTAMP:20260423T210246
CREATED:20220112T211205Z
LAST-MODIFIED:20220112T211205Z
UID:14789-1649955600-1649966400@opqic.org
SUMMARY:2nd Annual Pinot and Pints for Premies
DESCRIPTION:Pinot & Pints for Premies April 14\, 2022 Come and Go 5-8 pm\n\n\n\n\n\nAbout this event\n\n\nHelp ensure that all Oklahoma children have access to human milk! Join us for a casual\, fun evening sampling fantastic beer from Shillelagh Brewing Co. and excellent wine from Premium Brands Wine & Spirits. All proceeds benefit the statewide Oklahoma Mothers’ Milk Bank (OMMB) and Coalition of Oklahoma Breastfeeding Advocates (COBA). \nOMMB’s mission is to improve the health of Oklahoma babies through safe donor milk. OMMB collects\, screens\, processes\, and distributes donated human milk to meet the specific medical needs of individuals for whom it is prescribed. Founded in 2000 as a grassroots organization\, COBA carries out its mission to promote\, protect and support breastfeeding in Oklahoma through its resource\, education and advocacy efforts. \nFor more information about these nonprofit organizations or Pinot & Pints for Premies\, contact Heidi Russell at 405/476-7840 or at: info@okbreastfeeding.org. \nAll contributions are tax-deductible to the fullest extent allowed by law.
URL:https://opqic.org/event/2nd-annual-pinot-and-pints-for-premies/
LOCATION:Garrison Tower\, OUHSC\, 940 Northeast 13th Street\, Oklahoma City\, OK\, 73104\, United States
CATEGORIES:EVent
END:VEVENT
END:VCALENDAR