BEGIN:VCALENDAR
VERSION:2.0
PRODID:-//OPQIC - ECPv6.15.20//NONSGML v1.0//EN
CALSCALE:GREGORIAN
METHOD:PUBLISH
X-WR-CALNAME:OPQIC
X-ORIGINAL-URL:https://opqic.org
X-WR-CALDESC:Events for OPQIC
REFRESH-INTERVAL;VALUE=DURATION:PT1H
X-Robots-Tag:noindex
X-PUBLISHED-TTL:PT1H
BEGIN:VTIMEZONE
TZID:America/Chicago
BEGIN:DAYLIGHT
TZOFFSETFROM:-0600
TZOFFSETTO:-0500
TZNAME:CDT
DTSTART:20170312T080000
END:DAYLIGHT
BEGIN:STANDARD
TZOFFSETFROM:-0500
TZOFFSETTO:-0600
TZNAME:CST
DTSTART:20171105T070000
END:STANDARD
BEGIN:DAYLIGHT
TZOFFSETFROM:-0600
TZOFFSETTO:-0500
TZNAME:CDT
DTSTART:20180311T080000
END:DAYLIGHT
BEGIN:STANDARD
TZOFFSETFROM:-0500
TZOFFSETTO:-0600
TZNAME:CST
DTSTART:20181104T070000
END:STANDARD
BEGIN:DAYLIGHT
TZOFFSETFROM:-0600
TZOFFSETTO:-0500
TZNAME:CDT
DTSTART:20190310T080000
END:DAYLIGHT
BEGIN:STANDARD
TZOFFSETFROM:-0500
TZOFFSETTO:-0600
TZNAME:CST
DTSTART:20191103T070000
END:STANDARD
BEGIN:DAYLIGHT
TZOFFSETFROM:-0600
TZOFFSETTO:-0500
TZNAME:CDT
DTSTART:20200308T080000
END:DAYLIGHT
BEGIN:STANDARD
TZOFFSETFROM:-0500
TZOFFSETTO:-0600
TZNAME:CST
DTSTART:20201101T070000
END:STANDARD
BEGIN:DAYLIGHT
TZOFFSETFROM:-0600
TZOFFSETTO:-0500
TZNAME:CDT
DTSTART:20210314T080000
END:DAYLIGHT
BEGIN:STANDARD
TZOFFSETFROM:-0500
TZOFFSETTO:-0600
TZNAME:CST
DTSTART:20211107T070000
END:STANDARD
BEGIN:DAYLIGHT
TZOFFSETFROM:-0600
TZOFFSETTO:-0500
TZNAME:CDT
DTSTART:20220313T080000
END:DAYLIGHT
BEGIN:STANDARD
TZOFFSETFROM:-0500
TZOFFSETTO:-0600
TZNAME:CST
DTSTART:20221106T070000
END:STANDARD
BEGIN:DAYLIGHT
TZOFFSETFROM:-0600
TZOFFSETTO:-0500
TZNAME:CDT
DTSTART:20230312T080000
END:DAYLIGHT
BEGIN:STANDARD
TZOFFSETFROM:-0500
TZOFFSETTO:-0600
TZNAME:CST
DTSTART:20231105T070000
END:STANDARD
BEGIN:DAYLIGHT
TZOFFSETFROM:-0600
TZOFFSETTO:-0500
TZNAME:CDT
DTSTART:20240310T080000
END:DAYLIGHT
BEGIN:STANDARD
TZOFFSETFROM:-0500
TZOFFSETTO:-0600
TZNAME:CST
DTSTART:20241103T070000
END:STANDARD
BEGIN:DAYLIGHT
TZOFFSETFROM:-0600
TZOFFSETTO:-0500
TZNAME:CDT
DTSTART:20250309T080000
END:DAYLIGHT
BEGIN:STANDARD
TZOFFSETFROM:-0500
TZOFFSETTO:-0600
TZNAME:CST
DTSTART:20251102T070000
END:STANDARD
BEGIN:DAYLIGHT
TZOFFSETFROM:-0600
TZOFFSETTO:-0500
TZNAME:CDT
DTSTART:20260308T080000
END:DAYLIGHT
BEGIN:STANDARD
TZOFFSETFROM:-0500
TZOFFSETTO:-0600
TZNAME:CST
DTSTART:20261101T070000
END:STANDARD
BEGIN:DAYLIGHT
TZOFFSETFROM:-0600
TZOFFSETTO:-0500
TZNAME:CDT
DTSTART:20270314T080000
END:DAYLIGHT
BEGIN:STANDARD
TZOFFSETFROM:-0500
TZOFFSETTO:-0600
TZNAME:CST
DTSTART:20271107T070000
END:STANDARD
END:VTIMEZONE
BEGIN:VEVENT
DTSTART;VALUE=DATE:20260401
DTEND;VALUE=DATE:20260403
DTSTAMP:20260423T210318
CREATED:20260114T172824Z
LAST-MODIFIED:20260114T173232Z
UID:20717-1775001600-1775174399@opqic.org
SUMMARY:AWHONN Oklahoma Section Conference
DESCRIPTION:
URL:https://opqic.org/event/awhonn-oklahoma-section-conference-3/
LOCATION:Hilton Garden Inn\, 2833 Conference Dr.\, Edmond\, OK\, 73034\, United States
CATEGORIES:AWHONN OK
END:VEVENT
BEGIN:VEVENT
DTSTART;TZID=America/Chicago:20250424T080000
DTEND;TZID=America/Chicago:20250425T170000
DTSTAMP:20260423T210318
CREATED:20250217T194637Z
LAST-MODIFIED:20250217T194637Z
UID:18992-1745481600-1745600400@opqic.org
SUMMARY:AWHONN OK Section Conference 2025
DESCRIPTION:
URL:https://opqic.org/event/awhonn-ok-section-conference-2025/
LOCATION:Hilton Garden Inn\, 2833 Conference Dr.\, Edmond\, OK\, 73034\, United States
CATEGORIES:AWHONN OK
END:VEVENT
BEGIN:VEVENT
DTSTART;TZID=America/Chicago:20250226T183000
DTEND;TZID=America/Chicago:20250226T200000
DTSTAMP:20260423T210318
CREATED:20250217T194000Z
LAST-MODIFIED:20250217T194000Z
UID:18987-1740594600-1740600000@opqic.org
SUMMARY:Opioid Use Disorders in Pregnancy
DESCRIPTION:
URL:https://opqic.org/event/opioid-use-disorders-in-pregnancy/
LOCATION:Ascension St. John\, 1923 South Utica Avenue\, Tulsa\, OK\, 74104
CATEGORIES:AWHONN OK
END:VEVENT
BEGIN:VEVENT
DTSTART;TZID=America/Chicago:20250220T180000
DTEND;TZID=America/Chicago:20250220T200000
DTSTAMP:20260423T210318
CREATED:20250217T193052Z
LAST-MODIFIED:20250217T194237Z
UID:18981-1740074400-1740081600@opqic.org
SUMMARY:Innovation in Obstetrics: early Warning & Artificial Intelligence/PeriWatch Vigilance
DESCRIPTION:AWHONN North Oklahoma AI-Feb 2025 Flyer \nDinner and Presentation! Please join the AWHONN North Oklahoma Chapter for this educational presentation discussing trends in artificial intelligence in the obstetric space.\nPresented by:\nNikki Narmore\, MSN\, RN \nPlease Register via Email to:\ndenese.campbell@integrishealth.org\nNorth Oklahoma Chapter
URL:https://opqic.org/event/innovation-in-obstetrics-early-warning-artificial-intelligence-periwatch-vigilance/
LOCATION:Bad Brad’s BBQ\, 5302 West 6th Ave.\, Stillwater\, OK\, 74074
CATEGORIES:AWHONN OK
END:VEVENT
BEGIN:VEVENT
DTSTART;TZID=America/Chicago:20241106T180000
DTEND;TZID=America/Chicago:20241106T193000
DTSTAMP:20260423T210318
CREATED:20241029T193005Z
LAST-MODIFIED:20241029T193005Z
UID:18649-1730916000-1730921400@opqic.org
SUMMARY:AWHONN North Chapter Meeting: LDA in Pregnancy
DESCRIPTION:Email to RSVP.
URL:https://opqic.org/event/awhonn-north-chapter-meeting-lda-in-pregnancy/
LOCATION:Integris Health – Enid\, 600 S. Monroe St.\, Enid\, OK\, United States
CATEGORIES:AWHONN OK
END:VEVENT
BEGIN:VEVENT
DTSTART;VALUE=DATE:20240502
DTEND;VALUE=DATE:20240504
DTSTAMP:20260423T210318
CREATED:20240202T173706Z
LAST-MODIFIED:20240202T173706Z
UID:17928-1714608000-1714780799@opqic.org
SUMMARY:2024 AWHONN Oklahoma Section Conference
DESCRIPTION:2024 AWHONN Oklahoma Section Conference \nUnmask Your Potential Learn Network Refresh \nMay 2 & 3\, 2024 \nHilton Garden Inn Edmond Conference Center \nRegistration Costs \nAWHONN Member $125 before April 1st; $150 after April 1st \nNon-Members $165 before April 1st\, $190 after April 1st \nStudents $50 \nGuest tickets for Masquerade dinner party $25 (includes dinner\, party\, one drink ticket) \nClick link to register: 2024 AWOHNN OK Section Conference Registration \n 
URL:https://opqic.org/event/2024-awhonn-oklahoma-section-conference/
LOCATION:OK
CATEGORIES:AWHONN OK
END:VEVENT
BEGIN:VEVENT
DTSTART;TZID=America/Chicago:20240417T173000
DTEND;TZID=America/Chicago:20240417T173000
DTSTAMP:20260423T210318
CREATED:20240410T193522Z
LAST-MODIFIED:20240410T194637Z
UID:18118-1713375000-1713375000@opqic.org
SUMMARY:AWHONN: Opioid Use Disorders in Pregnancy
DESCRIPTION:Oklahoma Section Eastern Chapter \nOpioid Use Disorders in Pregnancy \nPresented By: Abbott \nDate: Wednesday\, April 17th\, 2024 \nTime: 5:30 pm \nLocation: Saint Francis Hospital Muskogee \nAzalea Room \n300 Rockefeller Drive
URL:https://opqic.org/event/awhonn-opioid-use-disorders-in-pregnancy/
LOCATION:OK
CATEGORIES:AWHONN OK
END:VEVENT
BEGIN:VEVENT
DTSTART;TZID=America/Chicago:20230907T080000
DTEND;TZID=America/Chicago:20230907T163000
DTSTAMP:20260423T210318
CREATED:20230809T175748Z
LAST-MODIFIED:20230809T175748Z
UID:17370-1694073600-1694104200@opqic.org
SUMMARY:AWHONN OPS: OB Emergencies Workshop
DESCRIPTION:This is the updated 3rd edition of the workshop which includes: cardiac disease and pregnancy\, maternal sepsis\, malignant hyperthermia\, pre-eclampsia and severe hypertension\, anaphylactoid syndrome of pregnancy\, postpartum hemorrhage\, prolapsed cord\, and uterine rupture. Participants complete an online portion\, receive in-person lecture\, participate in simulations\, table top scenarios and escape rooms. At the AWHONN convention in New Orleans there were demos available and if you were able to attend one you know this is a very exciting and helpful update… we cannot wait to share it with you!\n\nLearning Outcomes: \n\n\n\n 	Identify key factors that place the patient at higher risk for an obstetric emergency.\n \n 	Demonstrate effective management for pregnant or postpartum person during an obstetric emergency.\n \n 	Role-play with a multidisciplinary team using simulation-based cognitive\, behavioral\, and technical learning strategies to practice management of a patient experiencing an obstetric emergency.\n\nParticipant Materials:\n\n\n\n 	The cost is $120 and can be purchased through the AWHONN Store\n \n 	Materials include the prerequisite course\, participant handouts\, and Workshop resources. Nursing contact hours or CME: 10.75 (0.75 pharmacy) Expires: May 31\, 2025\n \n 	NOTE: Successful completion of the prerequisite course is required prior to attending the live portion of the Workshop.\n\n \n\n\nWorkshop Date:          September 7\, 2023 \n\n\nWorkshop Time:            8:00 am- 4:30 pm \n\n\nLocation:         Norman Regional Healthplex \n                         3300 Healthplex Parkway \n                             Norman\, OK 73072 \n\nRegistration Fee:  $100/participant    Registration/Payment Deadline: August 24\, 2023\n\nSubmit Registration/Payment To:\n\nPlease contact Amy Hawley for registration. Payment for Registration Fee will be submitted to the Norman Regional Foundation (invoices available upon request). Please see above for purchase of Participant Materials from AWHONN.\n\nAdditional information: Amy Hawley ahawley@nrh-ok.com; 405-659-2293 (text)\n\nThe course content also meets the Joint Commission requirements for PC 06.01.01 Reduce the likelihood of harm related to maternal hemorrhage and PC.06.03.01 Reduce the likelihood of harm related to maternal severe hypertension/preeclampsia.
URL:https://opqic.org/event/awhonn-ops-ob-emergencies-workshop/
LOCATION:Norman Regional HealthPlex\, 3300 HealthPlex Pkwy\, Norman\, OK\, 73072
CATEGORIES:AWHONN OK,EVent
END:VEVENT
BEGIN:VEVENT
DTSTART;TZID=America/Chicago:20230714T080000
DTEND;TZID=America/Chicago:20230714T163000
DTSTAMP:20260423T210318
CREATED:20230601T185321Z
LAST-MODIFIED:20230602T221242Z
UID:17139-1689321600-1689352200@opqic.org
SUMMARY:AWHONN Intermediate Fetal Monitoring class - Norman\, OK
DESCRIPTION:We are offering an upcoming AWHONN Intermediate Fetal Monitoring class in Norman\, OK on July 14th from 0800-1630. \nContact Amy Hawley at ahawley@nrh-ok.com to register!
URL:https://opqic.org/event/awhonn-intermediate-fetal-monitoring-class-norman-ok/
LOCATION:Norman Regional HealthPlex\, 3300 HealthPlex Pkwy\, Norman\, OK\, 73072
CATEGORIES:AWHONN OK,Training
END:VEVENT
BEGIN:VEVENT
DTSTART;TZID=America/Chicago:20220422T080000
DTEND;TZID=America/Chicago:20220422T170000
DTSTAMP:20260423T210318
CREATED:20220207T172244Z
LAST-MODIFIED:20220207T172244Z
UID:14860-1650614400-1650646800@opqic.org
SUMMARY:AWHONN OK Section Conference
DESCRIPTION:For more information: https://my.awhonn.org/nc__event?id=a0l5b00000CghN4AAJ
URL:https://opqic.org/event/awhonn-ok-section-conference/
LOCATION:OSU Tulsa\, 700 N Greenwood Ave\, Tulsa\, OK\, 74106\, United States
CATEGORIES:AWHONN OK
END:VEVENT
BEGIN:VEVENT
DTSTART;TZID=America/Chicago:20220217T173000
DTEND;TZID=America/Chicago:20220217T190000
DTSTAMP:20260423T210318
CREATED:20220207T173550Z
LAST-MODIFIED:20220207T173550Z
UID:14863-1645119000-1645124400@opqic.org
SUMMARY:AWHONN Northeast Chapter Oklahoma Section Meeting
DESCRIPTION:
URL:https://opqic.org/event/awhonn-northeast-chapter-oklahoma-section-meeting/
LOCATION:OK
CATEGORIES:AWHONN OK
END:VEVENT
BEGIN:VEVENT
DTSTART;VALUE=DATE:20210408
DTEND;VALUE=DATE:20210411
DTSTAMP:20260423T210318
CREATED:20201206T044621Z
LAST-MODIFIED:20201206T044621Z
UID:12625-1617840000-1618099199@opqic.org
SUMMARY:AWHONN OK & TX Sections Conference
DESCRIPTION:To register\, click on Tickets on the EventBrite page. AWHONN OK/TX Chapter Conference \n2021 Conference Agenda
URL:https://opqic.org/event/awhonn-ok-tx-sections-conference/
LOCATION:OK
CATEGORIES:AWHONN OK
END:VEVENT
BEGIN:VEVENT
DTSTART;TZID=America/Chicago:20200402T080000
DTEND;TZID=America/Chicago:20200403T170000
DTSTAMP:20260423T210318
CREATED:20200224T205857Z
LAST-MODIFIED:20200224T205857Z
UID:10950-1585814400-1585933200@opqic.org
SUMMARY:CANCELLED: AWHONN OK Conference
DESCRIPTION:Click here for updates.
URL:https://opqic.org/event/awhonn-ok-conference/
LOCATION:OSU Tulsa\, 700 N Greenwood Ave\, Tulsa\, OK\, 74106\, United States
CATEGORIES:AWHONN OK
END:VEVENT
BEGIN:VEVENT
DTSTART;TZID=America/Chicago:20191118T173000
DTEND;TZID=America/Chicago:20191118T183000
DTSTAMP:20260423T210318
CREATED:20191028T181822Z
LAST-MODIFIED:20191028T181822Z
UID:10417-1574098200-1574101800@opqic.org
SUMMARY:AWHONN OK Section South-Central Chapter & Cleveland County Action Team/FIMR Meeting: "Perinatal Mood & Anxiety Disorders"
DESCRIPTION:
URL:https://opqic.org/event/awhonn-ok-section-south-central-chapter-cleveland-county-action-team-fimr-meeting-perinatal-mood-anxiety-disorders/
LOCATION:Norman Regional HealthPlex\, 3300 HealthPlex Pkwy\, Norman\, OK\, 73072
CATEGORIES:AWHONN OK
END:VEVENT
BEGIN:VEVENT
DTSTART;TZID=America/Chicago:20190827T183000
DTEND;TZID=America/Chicago:20190827T200000
DTSTAMP:20260423T210318
CREATED:20190809T124451Z
LAST-MODIFIED:20190809T124451Z
UID:9531-1566930600-1566936000@opqic.org
SUMMARY:AWHONN Oklahoma Chapter Central OK Section Meeting
DESCRIPTION:
URL:https://opqic.org/event/awhonn-oklahoma-chapter-central-ok-section-meeting/
LOCATION:INTEGRIS Health Edmond\, 4801 Integris Pkwy\, Edmond\, OK\, 73034\, United States
CATEGORIES:AWHONN OK
END:VEVENT
BEGIN:VEVENT
DTSTART;TZID=America/Chicago:20190404T080000
DTEND;TZID=America/Chicago:20190405T170000
DTSTAMP:20260423T210318
CREATED:20190124T204103Z
LAST-MODIFIED:20190124T204103Z
UID:8842-1554364800-1554483600@opqic.org
SUMMARY:2019 AWHONN Oklahoma Section Conference
DESCRIPTION:Registration is now open. Click here for more information.
URL:https://opqic.org/event/2019-awhonn-oklahoma-section-conference/
LOCATION:OK
CATEGORIES:AWHONN OK
END:VEVENT
BEGIN:VEVENT
DTSTART;TZID=America/Chicago:20190131T183000
DTEND;TZID=America/Chicago:20190131T200000
DTSTAMP:20260423T210318
CREATED:20181217T173202Z
LAST-MODIFIED:20181217T173202Z
UID:8659-1548959400-1548964800@opqic.org
SUMMARY:AWHONN OK Central Oklahoma Chapter Meeting
DESCRIPTION:
URL:https://opqic.org/event/awhonn-ok-central-oklahoma-chapter-meeting/
LOCATION:INTEGRIS Baptist Medical Center\, 3300 NW Expressway\, Oklahoma City\, OK\, 73112\, United States
CATEGORIES:AWHONN OK
END:VEVENT
BEGIN:VEVENT
DTSTART;TZID=America/Chicago:20180726T183000
DTEND;TZID=America/Chicago:20180726T200000
DTSTAMP:20260423T210318
CREATED:20180530T203541Z
LAST-MODIFIED:20180530T203541Z
UID:7682-1532629800-1532635200@opqic.org
SUMMARY:AWHONN OK Section Central Oklahoma Chapter
DESCRIPTION:AWHONN Webinar: Myths and Truths of Amniotic Fluid Embolism/Anaphylactoid Syndrome of Pregnancy and Local Case Study Review. Please RSVP to evelyn.radichel@integrisok.com
URL:https://opqic.org/event/awhonn-ok-section-central-oklahoma-chapter/
LOCATION:INTEGRIS Health Edmond\, 4801 Integris Pkwy\, Edmond\, OK\, 73034\, United States
CATEGORIES:AWHONN OK
END:VEVENT
BEGIN:VEVENT
DTSTART;TZID=America/Chicago:20180618T173000
DTEND;TZID=America/Chicago:20180618T183000
DTSTAMP:20260423T210318
CREATED:20180508T212028Z
LAST-MODIFIED:20180508T212028Z
UID:7576-1529343000-1529346600@opqic.org
SUMMARY:AWHONN OK Section South Central Chapter Meeting
DESCRIPTION:Monday\, June 18\, 2018\n5:30-6:30 PM\nHealthplex\, 8th Floor\nRSVP by contacting: atroxell@nrh-ok.com
URL:https://opqic.org/event/awhonn-ok-section-south-central-chapter-meeting-2/
LOCATION:Norman Regional HealthPlex\, 3300 HealthPlex Pkwy\, Norman\, OK\, 73072
CATEGORIES:AWHONN OK
END:VEVENT
BEGIN:VEVENT
DTSTART;TZID=America/Chicago:20180514T173000
DTEND;TZID=America/Chicago:20180514T183000
DTSTAMP:20260423T210318
CREATED:20180508T211505Z
LAST-MODIFIED:20180508T211505Z
UID:7570-1526319000-1526322600@opqic.org
SUMMARY:AWHONN OK Section South-Central Chapter Meeting
DESCRIPTION:Monday\, May 14\, 2018\n5:30-6:30 PM\nHealthplex\, 8th Floor\nRSVP by contacting atroxell@nrh-ok.com
URL:https://opqic.org/event/awhonn-ok-section-south-central-chapter-meeting/
LOCATION:Norman Regional HealthPlex\, 3300 HealthPlex Pkwy\, Norman\, OK\, 73072
CATEGORIES:AWHONN OK
END:VEVENT
BEGIN:VEVENT
DTSTART;TZID=America/Chicago:20180424T173000
DTEND;TZID=America/Chicago:20180424T193000
DTSTAMP:20260423T210318
CREATED:20180314T194819Z
LAST-MODIFIED:20180314T194819Z
UID:7386-1524591000-1524598200@opqic.org
SUMMARY:AWHONN OK Section Northeast Chapter
DESCRIPTION:Tuesday\, April 24\, 2018\n5:30-7:30 PM\nSaint Francis Hospital\, Education Center\nRSVP by April 13\, 2018: NEChapter@awhonnok.org
URL:https://opqic.org/event/awhonn-ok-section-northeast-chapter/
LOCATION:OK
CATEGORIES:AWHONN OK
END:VEVENT
BEGIN:VEVENT
DTSTART;TZID=America/Chicago:20180405T080000
DTEND;TZID=America/Chicago:20180406T170000
DTSTAMP:20260423T210318
CREATED:20180227T173344Z
LAST-MODIFIED:20180227T173344Z
UID:7314-1522915200-1523034000@opqic.org
SUMMARY:2018 AWHONN Oklahoma Section Conference
DESCRIPTION:Earlybird Registration ends March 15. \nKeynote Speakers: \n\nCyndy Krening\nLiz Jazweic\n\n   \n 
URL:https://opqic.org/event/2018-awhonn-oklahoma-section-conference/
LOCATION:Samis Education Center\, 1200 Children's Ave\, Oklahoma City\, OK\, 73104\, United States
CATEGORIES:AWHONN OK
END:VEVENT
END:VCALENDAR