BEGIN:VCALENDAR
VERSION:2.0
PRODID:-//OPQIC - ECPv6.15.20//NONSGML v1.0//EN
CALSCALE:GREGORIAN
METHOD:PUBLISH
X-WR-CALNAME:OPQIC
X-ORIGINAL-URL:https://opqic.org
X-WR-CALDESC:Events for OPQIC
REFRESH-INTERVAL;VALUE=DURATION:PT1H
X-Robots-Tag:noindex
X-PUBLISHED-TTL:PT1H
BEGIN:VTIMEZONE
TZID:America/Chicago
BEGIN:DAYLIGHT
TZOFFSETFROM:-0600
TZOFFSETTO:-0500
TZNAME:CDT
DTSTART:20240310T080000
END:DAYLIGHT
BEGIN:STANDARD
TZOFFSETFROM:-0500
TZOFFSETTO:-0600
TZNAME:CST
DTSTART:20241103T070000
END:STANDARD
BEGIN:DAYLIGHT
TZOFFSETFROM:-0600
TZOFFSETTO:-0500
TZNAME:CDT
DTSTART:20250309T080000
END:DAYLIGHT
BEGIN:STANDARD
TZOFFSETFROM:-0500
TZOFFSETTO:-0600
TZNAME:CST
DTSTART:20251102T070000
END:STANDARD
BEGIN:DAYLIGHT
TZOFFSETFROM:-0600
TZOFFSETTO:-0500
TZNAME:CDT
DTSTART:20260308T080000
END:DAYLIGHT
BEGIN:STANDARD
TZOFFSETFROM:-0500
TZOFFSETTO:-0600
TZNAME:CST
DTSTART:20261101T070000
END:STANDARD
END:VTIMEZONE
BEGIN:VEVENT
DTSTART;TZID=America/Chicago:20250220T180000
DTEND;TZID=America/Chicago:20250220T200000
DTSTAMP:20260424T184658
CREATED:20250217T193052Z
LAST-MODIFIED:20250217T194237Z
UID:18981-1740074400-1740081600@opqic.org
SUMMARY:Innovation in Obstetrics: early Warning & Artificial Intelligence/PeriWatch Vigilance
DESCRIPTION:AWHONN North Oklahoma AI-Feb 2025 Flyer \nDinner and Presentation! Please join the AWHONN North Oklahoma Chapter for this educational presentation discussing trends in artificial intelligence in the obstetric space.\nPresented by:\nNikki Narmore\, MSN\, RN \nPlease Register via Email to:\ndenese.campbell@integrishealth.org\nNorth Oklahoma Chapter
URL:https://opqic.org/event/innovation-in-obstetrics-early-warning-artificial-intelligence-periwatch-vigilance/
LOCATION:Bad Brad’s BBQ\, 5302 West 6th Ave.\, Stillwater\, OK\, 74074
CATEGORIES:AWHONN OK
END:VEVENT
BEGIN:VEVENT
DTSTART;TZID=America/Chicago:20250226T183000
DTEND;TZID=America/Chicago:20250226T200000
DTSTAMP:20260424T184658
CREATED:20250217T194000Z
LAST-MODIFIED:20250217T194000Z
UID:18987-1740594600-1740600000@opqic.org
SUMMARY:Opioid Use Disorders in Pregnancy
DESCRIPTION:
URL:https://opqic.org/event/opioid-use-disorders-in-pregnancy/
LOCATION:Ascension St. John\, 1923 South Utica Avenue\, Tulsa\, OK\, 74104
CATEGORIES:AWHONN OK
END:VEVENT
END:VCALENDAR