BEGIN:VCALENDAR
VERSION:2.0
PRODID:-//OPQIC - ECPv6.15.20//NONSGML v1.0//EN
CALSCALE:GREGORIAN
METHOD:PUBLISH
X-ORIGINAL-URL:https://opqic.org
X-WR-CALDESC:Events for OPQIC
REFRESH-INTERVAL;VALUE=DURATION:PT1H
X-Robots-Tag:noindex
X-PUBLISHED-TTL:PT1H
BEGIN:VTIMEZONE
TZID:America/Chicago
BEGIN:DAYLIGHT
TZOFFSETFROM:-0600
TZOFFSETTO:-0500
TZNAME:CDT
DTSTART:20170312T080000
END:DAYLIGHT
BEGIN:STANDARD
TZOFFSETFROM:-0500
TZOFFSETTO:-0600
TZNAME:CST
DTSTART:20171105T070000
END:STANDARD
BEGIN:DAYLIGHT
TZOFFSETFROM:-0600
TZOFFSETTO:-0500
TZNAME:CDT
DTSTART:20180311T080000
END:DAYLIGHT
BEGIN:STANDARD
TZOFFSETFROM:-0500
TZOFFSETTO:-0600
TZNAME:CST
DTSTART:20181104T070000
END:STANDARD
BEGIN:DAYLIGHT
TZOFFSETFROM:-0600
TZOFFSETTO:-0500
TZNAME:CDT
DTSTART:20190310T080000
END:DAYLIGHT
BEGIN:STANDARD
TZOFFSETFROM:-0500
TZOFFSETTO:-0600
TZNAME:CST
DTSTART:20191103T070000
END:STANDARD
BEGIN:DAYLIGHT
TZOFFSETFROM:-0600
TZOFFSETTO:-0500
TZNAME:CDT
DTSTART:20200308T080000
END:DAYLIGHT
BEGIN:STANDARD
TZOFFSETFROM:-0500
TZOFFSETTO:-0600
TZNAME:CST
DTSTART:20201101T070000
END:STANDARD
BEGIN:DAYLIGHT
TZOFFSETFROM:-0600
TZOFFSETTO:-0500
TZNAME:CDT
DTSTART:20210314T080000
END:DAYLIGHT
BEGIN:STANDARD
TZOFFSETFROM:-0500
TZOFFSETTO:-0600
TZNAME:CST
DTSTART:20211107T070000
END:STANDARD
BEGIN:DAYLIGHT
TZOFFSETFROM:-0600
TZOFFSETTO:-0500
TZNAME:CDT
DTSTART:20220313T080000
END:DAYLIGHT
BEGIN:STANDARD
TZOFFSETFROM:-0500
TZOFFSETTO:-0600
TZNAME:CST
DTSTART:20221106T070000
END:STANDARD
END:VTIMEZONE
BEGIN:VEVENT
DTSTART;TZID=America/Chicago:20210924T080000
DTEND;TZID=America/Chicago:20210926T170000
DTSTAMP:20260423T230942
CREATED:20210802T163928Z
LAST-MODIFIED:20210802T163928Z
UID:14070-1632470400-1632675600@opqic.org
SUMMARY:CANCELLED: 2021 District VII Annual District Meeting
DESCRIPTION:Unfortunately\, due to the overwhelming surge of hospitalizations caused by the Delta variant during the continuing COVID-19 pandemic\, we are cancelling the 2021 District VII Annual District Meeting. All meeting registrations will be cancelled automatically\, and full refunds issued via check within 30 days. Please reach out to district7@acog.org with any questions.
URL:https://opqic.org/event/2021-district-vii-annual-district-meeting/
LOCATION:Hyatt Regency Tulsa\, 100 E 2nd ST\, Tulsa\, OK\, 74103\, United States
CATEGORIES:ACOG
END:VEVENT
BEGIN:VEVENT
DTSTART;TZID=America/Chicago:20210224T110000
DTEND;TZID=America/Chicago:20210224T123000
DTSTAMP:20260423T230942
CREATED:20210126T193116Z
LAST-MODIFIED:20210126T193116Z
UID:12816-1614164400-1614169800@opqic.org
SUMMARY:ACOG: Maternal Cardiac Conditions: Addressing a Leading Cause of Pregnancy-Related Death
DESCRIPTION:In observation of American Heart Month\, ACOG is hosting a webinar\, “Maternal Cardiac Conditions: Addressing a Leading Cause of Pregnancy-Related Death” on Wednesday\, February 24\, 2021 at 11:00 AM CST. Speakers will address cardiac contributors to maternal mortality\, differentiating normal cardiac changes in the pregnant or postpartum patient from signs of cardiac disease\, assessing maternal cardiac status\, and treating cardiac conditions and complications. ACOG is hosting this free\, 90-minute webinar with support from CDC. \nSpeakers include:\n• Afshan Hameed\, MD\, FACOG\, FACC\, Maternal-Fetal Medicine Specialist and Cardiologist\, University of California Irvine\n• Brianna Harris-Henderson\, Founder\, Let’sTalkPPCM\n• Lisa Hollier\, MD\, MPH\, FACOG\, Chief Medical Officer for Obstetrics & Gynecology\, Texas Children’s Health Plan and ACOG Past President \nThe audience for this webinar includes a number of specialties\, including women’s health\, emergency medicine\, primary care\, cardiology\, and neurology. Registration can be found here.
URL:https://opqic.org/event/acog-maternal-cardiac-conditions-addressing-a-leading-cause-of-pregnancy-related-death/
LOCATION:OK
CATEGORIES:ACOG,Webinar
END:VEVENT
BEGIN:VEVENT
DTSTART;TZID=America/Chicago:20180427T080000
DTEND;TZID=America/Chicago:20180430T170000
DTSTAMP:20260423T230942
CREATED:20180227T175121Z
LAST-MODIFIED:20180227T175121Z
UID:7323-1524816000-1525107600@opqic.org
SUMMARY:2018 ACOG Annual Clinical and Scientific Meeting
DESCRIPTION:This year’s annual meeting will be in Austin\, TX. Please book by April 6\, 2018 for advance registration and hotel special rates. \n 
URL:https://opqic.org/event/2018-acog-annual-clinical-and-scientific-meeting/
LOCATION:OK
CATEGORIES:ACOG
END:VEVENT
END:VCALENDAR