BEGIN:VCALENDAR
VERSION:2.0
PRODID:-//OPQIC - ECPv6.15.20//NONSGML v1.0//EN
CALSCALE:GREGORIAN
METHOD:PUBLISH
X-WR-CALNAME:OPQIC
X-ORIGINAL-URL:https://opqic.org
X-WR-CALDESC:Events for OPQIC
REFRESH-INTERVAL;VALUE=DURATION:PT1H
X-Robots-Tag:noindex
X-PUBLISHED-TTL:PT1H
BEGIN:VTIMEZONE
TZID:America/Chicago
BEGIN:DAYLIGHT
TZOFFSETFROM:-0600
TZOFFSETTO:-0500
TZNAME:CDT
DTSTART:20170312T080000
END:DAYLIGHT
BEGIN:STANDARD
TZOFFSETFROM:-0500
TZOFFSETTO:-0600
TZNAME:CST
DTSTART:20171105T070000
END:STANDARD
BEGIN:DAYLIGHT
TZOFFSETFROM:-0600
TZOFFSETTO:-0500
TZNAME:CDT
DTSTART:20180311T080000
END:DAYLIGHT
BEGIN:STANDARD
TZOFFSETFROM:-0500
TZOFFSETTO:-0600
TZNAME:CST
DTSTART:20181104T070000
END:STANDARD
BEGIN:DAYLIGHT
TZOFFSETFROM:-0600
TZOFFSETTO:-0500
TZNAME:CDT
DTSTART:20190310T080000
END:DAYLIGHT
BEGIN:STANDARD
TZOFFSETFROM:-0500
TZOFFSETTO:-0600
TZNAME:CST
DTSTART:20191103T070000
END:STANDARD
BEGIN:DAYLIGHT
TZOFFSETFROM:-0600
TZOFFSETTO:-0500
TZNAME:CDT
DTSTART:20200308T080000
END:DAYLIGHT
BEGIN:STANDARD
TZOFFSETFROM:-0500
TZOFFSETTO:-0600
TZNAME:CST
DTSTART:20201101T070000
END:STANDARD
BEGIN:DAYLIGHT
TZOFFSETFROM:-0600
TZOFFSETTO:-0500
TZNAME:CDT
DTSTART:20210314T080000
END:DAYLIGHT
BEGIN:STANDARD
TZOFFSETFROM:-0500
TZOFFSETTO:-0600
TZNAME:CST
DTSTART:20211107T070000
END:STANDARD
BEGIN:DAYLIGHT
TZOFFSETFROM:-0600
TZOFFSETTO:-0500
TZNAME:CDT
DTSTART:20220313T080000
END:DAYLIGHT
BEGIN:STANDARD
TZOFFSETFROM:-0500
TZOFFSETTO:-0600
TZNAME:CST
DTSTART:20221106T070000
END:STANDARD
END:VTIMEZONE
BEGIN:VEVENT
DTSTART;TZID=America/Chicago:20210412T120000
DTEND;TZID=America/Chicago:20210412T130000
DTSTAMP:20260423T234413
CREATED:20201022T180134Z
LAST-MODIFIED:20201022T180134Z
UID:12366-1618228800-1618232400@opqic.org
SUMMARY:Project ECHO & AAP
DESCRIPTION:The AAP is excited to announce that the Maternal-Infant Health and Opioid Use ECHO have joined together to form a collaborative that aims to support pediatric practices in their implementation of clinical interventions to improve the health outcomes of infants and families affected by prenatal opioid use. Pediatric practices interested in developing sustainable patient- and family-centered approaches to treatment and support for infants with prenatal opioid exposure are encouraged to apply. Project ECHO (Extension for Community Healthcare Outcomes) is an innovative telementoring program designed to create virtual communities of learners by connecting experts with primary care teams in local communities\, fostering an“all teach\, all learn” approach. This ECHO will incorporate quality improvement work and will meet monthly from October 2020 through April 2021. The opportunity to participate is open to all pediatric practices. The ECHO sessions will be held the second Monday of each month@ 1:00 – 2:00 pm(ET) | 12:00 – 1:00 pm(CT). \nAccess more information here
URL:https://opqic.org/event/project-echo-aap-6/
CATEGORIES:AAP,Webinar
END:VEVENT
BEGIN:VEVENT
DTSTART;TZID=America/Chicago:20210308T120000
DTEND;TZID=America/Chicago:20210308T130000
DTSTAMP:20260423T234413
CREATED:20201022T180042Z
LAST-MODIFIED:20201022T180042Z
UID:12364-1615204800-1615208400@opqic.org
SUMMARY:Project ECHO & AAP
DESCRIPTION:The AAP is excited to announce that the Maternal-Infant Health and Opioid Use ECHO have joined together to form a collaborative that aims to support pediatric practices in their implementation of clinical interventions to improve the health outcomes of infants and families affected by prenatal opioid use. Pediatric practices interested in developing sustainable patient- and family-centered approaches to treatment and support for infants with prenatal opioid exposure are encouraged to apply. Project ECHO (Extension for Community Healthcare Outcomes) is an innovative telementoring program designed to create virtual communities of learners by connecting experts with primary care teams in local communities\, fostering an“all teach\, all learn” approach. This ECHO will incorporate quality improvement work and will meet monthly from October 2020 through April 2021. The opportunity to participate is open to all pediatric practices. The ECHO sessions will be held the second Monday of each month@ 1:00 – 2:00 pm(ET) | 12:00 – 1:00 pm(CT). \nAccess more information here
URL:https://opqic.org/event/project-echo-aap-5/
CATEGORIES:AAP,Webinar
END:VEVENT
BEGIN:VEVENT
DTSTART;TZID=America/Chicago:20210208T120000
DTEND;TZID=America/Chicago:20210208T130000
DTSTAMP:20260423T234413
CREATED:20201022T175947Z
LAST-MODIFIED:20201022T175947Z
UID:12362-1612785600-1612789200@opqic.org
SUMMARY:Project ECHO & AAP
DESCRIPTION:The AAP is excited to announce that the Maternal-Infant Health and Opioid Use ECHO have joined together to form a collaborative that aims to support pediatric practices in their implementation of clinical interventions to improve the health outcomes of infants and families affected by prenatal opioid use. Pediatric practices interested in developing sustainable patient- and family-centered approaches to treatment and support for infants with prenatal opioid exposure are encouraged to apply. Project ECHO (Extension for Community Healthcare Outcomes) is an innovative telementoring program designed to create virtual communities of learners by connecting experts with primary care teams in local communities\, fostering an“all teach\, all learn” approach. This ECHO will incorporate quality improvement work and will meet monthly from October 2020 through April 2021. The opportunity to participate is open to all pediatric practices. The ECHO sessions will be held the second Monday of each month@ 1:00 – 2:00 pm(ET) | 12:00 – 1:00 pm(CT). \nAccess more information here
URL:https://opqic.org/event/project-echo-aap-4/
CATEGORIES:AAP,Webinar
END:VEVENT
BEGIN:VEVENT
DTSTART;TZID=America/Chicago:20210111T120000
DTEND;TZID=America/Chicago:20210111T130000
DTSTAMP:20260423T234413
CREATED:20201022T174558Z
LAST-MODIFIED:20201022T174558Z
UID:12360-1610366400-1610370000@opqic.org
SUMMARY:Project ECHO & AAP
DESCRIPTION:The AAP is excited to announce that the Maternal-Infant Health and Opioid Use ECHO have joined together to form a collaborative that aims to support pediatric practices in their implementation of clinical interventions to improve the health outcomes of infants and families affected by prenatal opioid use. Pediatric practices interested in developing sustainable patient- and family-centered approaches to treatment and support for infants with prenatal opioid exposure are encouraged to apply. Project ECHO (Extension for Community Healthcare Outcomes) is an innovative telementoring program designed to create virtual communities of learners by connecting experts with primary care teams in local communities\, fostering an“all teach\, all learn” approach. This ECHO will incorporate quality improvement work and will meet monthly from October 2020 through April 2021. The opportunity to participate is open to all pediatric practices. The ECHO sessions will be held the second Monday of each month@ 1:00 – 2:00 pm(ET) | 12:00 – 1:00 pm(CT). \nAccess more information here
URL:https://opqic.org/event/project-echo-aap-3/
CATEGORIES:AAP,Training
END:VEVENT
BEGIN:VEVENT
DTSTART;TZID=America/Chicago:20201214T120000
DTEND;TZID=America/Chicago:20201214T130000
DTSTAMP:20260423T234413
CREATED:20201022T174404Z
LAST-MODIFIED:20201022T174404Z
UID:12358-1607947200-1607950800@opqic.org
SUMMARY:Project ECHO & AAP
DESCRIPTION:The AAP is excited to announce that the Maternal-Infant Health and Opioid Use ECHO have joined together to form a collaborative that aims to support pediatric practices in their implementation of clinical interventions to improve the health outcomes of infants and families affected by prenatal opioid use. Pediatric practices interested in developing sustainable patient- and family-centered approaches to treatment and support for infants with prenatal opioid exposure are encouraged to apply. Project ECHO (Extension for Community Healthcare Outcomes) is an innovative telementoring program designed to create virtual communities of learners by connecting experts with primary care teams in local communities\, fostering an“all teach\, all learn” approach. This ECHO will incorporate quality improvement work and will meet monthly from October 2020 through April 2021. The opportunity to participate is open to all pediatric practices. The ECHO sessions will be held the second Monday of each month@ 1:00 – 2:00 pm(ET) | 12:00 – 1:00 pm(CT). \nAccess more information here
URL:https://opqic.org/event/project-echo-aap-2/
CATEGORIES:AAP,Webinar
END:VEVENT
BEGIN:VEVENT
DTSTART;TZID=America/Chicago:20201109T120000
DTEND;TZID=America/Chicago:20201109T130000
DTSTAMP:20260423T234413
CREATED:20201022T174309Z
LAST-MODIFIED:20201022T174309Z
UID:12356-1604923200-1604926800@opqic.org
SUMMARY:Project ECHO & AAP
DESCRIPTION:The AAP is excited to announce that the Maternal-Infant Health and Opioid Use ECHO have joined together to form a collaborative that aims to support pediatric practices in their implementation of clinical interventions to improve the health outcomes of infants and families affected by prenatal opioid use. Pediatric practices interested in developing sustainable patient- and family-centered approaches to treatment and support for infants with prenatal opioid exposure are encouraged to apply. Project ECHO (Extension for Community Healthcare Outcomes) is an innovative telementoring program designed to create virtual communities of learners by connecting experts with primary care teams in local communities\, fostering an“all teach\, all learn” approach. This ECHO will incorporate quality improvement work and will meet monthly from October 2020 through April 2021. The opportunity to participate is open to all pediatric practices. The ECHO sessions will be held the second Monday of each month@ 1:00 – 2:00 pm(ET) | 12:00 – 1:00 pm(CT). \nRegister Here
URL:https://opqic.org/event/project-echo-aap/
CATEGORIES:AAP,Webinar
END:VEVENT
BEGIN:VEVENT
DTSTART;TZID=America/Chicago:20181102T080000
DTEND;TZID=America/Chicago:20181106T170000
DTSTAMP:20260423T234413
CREATED:20180227T175355Z
LAST-MODIFIED:20180227T175355Z
UID:7325-1541145600-1541523600@opqic.org
SUMMARY:2018 AAP National Conference and Exhibition
DESCRIPTION:This year’s conference will be in Orlando\, FL. \nRegistration and Hotel Reservations will be available beginning May 1\, 2018.
URL:https://opqic.org/event/2018-aap-national-conference-and-exhibition/
CATEGORIES:AAP
END:VEVENT
END:VCALENDAR